2500.0000000000
0.0000000000
0.0000000000
-2500.0000000000
85109.4699463662
1250409.5132463654
