0.0226845485
0.0000000000
0.0000000000
-0.0226845485
-78.6700329142
9.5613771129
