0.0230336413
0.0000000000
0.0000000000
-0.0230336413
-78.7499334539
11.3946767185
