2531.6987396666
0.0000000000
0.0000000000
-2531.6987396666
450612.0177541787
1856695.0000000000
