<PAMDataset>
  <Subdataset name="//Rad">
    <PAMDataset>
      <SRS dataAxisToSRSAxisMapping="1,2">PROJCS["unknown",GEOGCS["unknown",DATUM["unknown",SPHEROID["GRS 1980",6378137,298.2572221]],PRIMEM["Greenwich",0,AUTHORITY["EPSG","8901"]],UNIT["degree",0.0174532925199433,AUTHORITY["EPSG","9122"]]],PROJECTION["Geostationary_Satellite"],PARAMETER["central_meridian",-75],PARAMETER["satellite_height",35786023],PARAMETER["false_easting",0],PARAMETER["false_northing",0],UNIT["metre",1,AUTHORITY["EPSG","9001"]],AXIS["Easting",EAST],AXIS["Northing",NORTH],EXTENSION["PROJ4","+proj=geos +sweep=x +lon_0=-75 +h=35786023 +x_0=0 +y_0=0 +ellps=GRS80 +units=m +no_defs"]]</SRS>
      <GeoTransform> -5.4348946752698869e+06,  1.0020086053226192e+03,  0.0000000000000000e+00,  5.4348946752698869e+06,  0.0000000000000000e+00, -1.0020086053226192e+03</GeoTransform>
      <Metadata>
        <MDI key="cdm_data_type">Image</MDI>
        <MDI key="Conventions">CF-1.7</MDI>
        <MDI key="cspp_geo_grb_production_host">colombiaIngest1</MDI>
        <MDI key="cspp_geo_grb_reconstruction_end_time">2026-06-01 11:50:12.111820</MDI>
        <MDI key="cspp_geo_grb_version">CSPP Geo GRB v1.0.15</MDI>
        <MDI key="dataset_name">OR_ABI-L1b-RadF-M6C03_G19_s20261521140211_e20261521149519_c20261521149557.nc</MDI>
        <MDI key="date_created">2026-06-01T11:49:55.7Z</MDI>
        <MDI key="history">2026-06-01, 11:50:12, directmet, /cspp/GRB-R/grbr/reconstructor.py -b -vv /output/tmp/RT-CSPP/GRB_2B6_0x82_2026-06-01T11:40:21.137Z.ccsds</MDI>
        <MDI key="institution">DOC/NOAA/NESDIS &gt; U.S. Department of Commerce, National Oceanic and Atmospheric Administration, National Environmental Satellite, Data, and Information Services</MDI>
        <MDI key="instrument_ID">FM4</MDI>
        <MDI key="instrument_type">GOES-R Series Advanced Baseline Imager (ABI)</MDI>
        <MDI key="iso_series_metadata_id">a70be540-c38b-11e0-962b-0800200c9a66</MDI>
        <MDI key="keywords">SPECTRAL/ENGINEERING &gt; VISIBLE WAVELENGTHS &gt; VISIBLE RADIANCE</MDI>
        <MDI key="keywords_vocabulary">NASA Global Change Master Directory (GCMD) Earth Science Keywords, Version 7.0.0.0.0</MDI>
        <MDI key="license">Unclassified data.  Access is restricted to approved users only.</MDI>
        <MDI key="LUT_Filenames">SpaceLookParams(FM4A_CDRL79RevA_DO_14_00_00)-768524084.0.h5 QTableBand03(FM4A_CDRL79RevA_DO_14_00_00)-768524084.0.h5 CalTargetTimeIntervals(FM4A_CDRL79RevA_DO_14_00_00)-768524084.0.h5 BandSaturationLimits(FM4A_CDRL79RevA_DO_14_00_00)-768524084.0.h5 SolarSpaceLookParams(FM4A_PR_15_01_02)-806050200.0.h5 DeadRowListParams(FM4A_ADR1511_PR_15_00_00)-800505400.0.h5 Mirror_Record(FM4A_CDRL79RevL_PR_15_00_00)-800505400.0.h5 KalmanAstroConsts(FM4A_CDRL79Rev-_DO_10_00_00)-637909408.0.xml KalmanFilterControls(FM4A_ADR1546v2_PR_15_00_00)-800505400.0.xml KalmanMeasMaxSensibles(FMAA_INT_ONLY_DO_09_01_00)-631775400.0.xml KalmanPreprocessorControls(FM4A_CDRL79Rev-_DO_10_00_00)-637909408.0.xml KalmanReferenceData(FM4E_CDRL79Rev-_DO_10_00_00)-637909408.0.xml KalmanStarCatalogs(FM4A_CDRL79RevA-DO_14_00_00)-768524084.0.xml ABI_NavigationRDP_Band03(FM4A_CDRL79RevL_PR_15_00_00)-800505400.0.xml ABI_NavigationParameters_Band03(FM4A_CDRL79RevJ_PR_15_00_00)-800505400.0.xml ABI_ResamplingImplementation_Band03(FM4A_CDRL79Rev-_DO_10_00_00)-637909408.0.xml ABI_ResamplingParameters_Band03(FM4A_CDRL79RevA-DO_14_00_00)-768524084.0.xml StarLookParams(FM4A_CDRL79RevA_DO_14_00_00)-768524084.0.h5 StarDetectionParams(FM4A_PR_15_01_05)-818582700.0.xml ResamplingScaledConversion(FMAA_INT_ONLY_DO_08_00_00)-1111.0.xml BlockReleaseRegions(FMAA_INT_ONLY_DO_08_00_00)-2222.0.csv VNIR_RetrievalParameters(FM4A_CDRL79RevA_DO_14_00_00)-768524084.0.h5 SCT_Record(FM4A_ADR1525gainfixv1_PR_15_00_00)-800505400.0.h5 ICM_ConversionConsts(FM4A_CDRL79RevA_DO_14_00_00)-768524084.0.h5 ICM_SensorCoefficients(FM4A_ABI_18_533_PR_15_00_00)-800505400.0.h5 ABI_HarmonizationCoefficients(FM4A_ADR1560_PR_15_01_01)-799837900.0.xml</MDI>
        <MDI key="Metadata_Conventions">Unidata Dataset Discovery v1.0</MDI>
        <MDI key="naming_authority">gov.nesdis.noaa</MDI>
        <MDI key="orbital_slot">GOES-East</MDI>
        <MDI key="platform_ID">G19</MDI>
        <MDI key="processing_level">National Aeronautics and Space Administration (NASA) L1b</MDI>
        <MDI key="production_data_source">Realtime</MDI>
        <MDI key="production_environment">OE</MDI>
        <MDI key="production_site">RBU</MDI>
        <MDI key="project">GOES</MDI>
        <MDI key="scene_id">Full Disk</MDI>
        <MDI key="spatial_resolution">1km at nadir</MDI>
        <MDI key="standard_name_vocabulary">CF Standard Name Table (v35, 20 July 2016)</MDI>
        <MDI key="summary">Single reflective band ABI L1b Radiance Products are digital maps of outgoing radiance values at the top of the atmosphere for visible and near-IR bands.</MDI>
        <MDI key="timeline_id">ABI Mode 6</MDI>
        <MDI key="time_coverage_end">2026-06-01T11:49:51.9Z</MDI>
        <MDI key="time_coverage_start">2026-06-01T11:40:21.1Z</MDI>
        <MDI key="title">ABI L1b Radiances</MDI>
        <MDI key="_NCProperties">version=1|netcdflibversion=4.4.1.1|hdf5libversion=1.8.19</MDI>
      </Metadata>
      <PAMRasterBand band="1">
        <Metadata>
          <MDI key="Rad_add_offset">-12.037643 </MDI>
          <MDI key="Rad_ancillary_variables">DQF</MDI>
          <MDI key="Rad_cell_methods">t: point area: point</MDI>
          <MDI key="Rad_coordinates">band_id band_wavelength t y x</MDI>
          <MDI key="Rad_grid_mapping">goes_imager_projection</MDI>
          <MDI key="Rad_long_name">ABI L1b Radiances</MDI>
          <MDI key="Rad_resolution">y: 0.000028 rad x: 0.000028 rad</MDI>
          <MDI key="Rad_scale_factor">0.37691253 </MDI>
          <MDI key="Rad_sensor_band_bit_depth">10 </MDI>
          <MDI key="Rad_standard_name">toa_outgoing_radiance_per_unit_wavelength</MDI>
          <MDI key="Rad_units">W m-2 sr-1 um-1</MDI>
          <MDI key="Rad_valid_range">0 1022 </MDI>
          <MDI key="Rad__FillValue">1023 </MDI>
          <MDI key="Rad__Unsigned">true</MDI>
        </Metadata>
      </PAMRasterBand>
    </PAMDataset>
  </Subdataset>
</PAMDataset>
