Workbook

Sheet max
F1: TEMPERATURA MAXIMA | AT1: MAXIMA | AU1: del mes | AV1: =+MAX(I5:AM958) -> 39.4 | BN1: MAXIMA | BU1: =+MAX(AX5:BM958) -> 37.4
F2: NOVIEMBRE DE 2025 | AV2: supera o igual MAX hist. | BA2: DICIEMBRE DE 2025 | BN2: del mes | BW2: supera o igual MAX hist. | CB2: MAXIMAS HISTORICAS | CL2: PROMEDIOS DE MÁXIMAS ABSOLUTAS MENSUAL MULTIANUAL | CZ2: PROMEDIOS MENSUAL MULTIANUAL
A3: LON | B3: LAT | C3: ELEV | D3: COD- ssHM | F3: ESTACION | G3: DPTO | H3: MUNICIPIO | I3: 1 | J3: 2 | K3: 3 | L3: 4 | M3: 5 | N3: 6 | O3: 7 | P3: 8 | Q3: 9 | R3: 10 | S3: 11 | T3: 12 | U3: 13 | V3: 14 | W3: 15 | X3: 16 | Y3: 17 | Z3: 18 | AA3: 19 | AB3: 20 | AC3: 21 | AD3: 22 | AE3: 23 | AF3: 24 | AG3: 25 | AH3: 26 | AI3: 27 | AJ3: 28 | AK3: 29 | AL3: 30 | AM3: 31 | AN3: ultimo DATO registrado | AO3: Prom. Multi-anual | AP3: anomalia del ultimo dia registrado | AQ3: Prom. Del Mes | AR3: anomalia Del mes | AT3: Max del mes | AU3: Max. Hist | AX3: 1 | AY3: 2 | AZ3: 3 | BA3: 4 | BB3: 5 | BC3: 6 | BD3: 7 | BE3: 8 | BF3: 9 | BG3: 10 | BH3: 11 | BI3: 12 | BJ3: 13 | BK3: 14 | BL3: 15 | BM3: 16 | BN3: ultimo DATO registrado | BP3: Prom. Multi-anual | BQ3: anomalia del ultimo dia registrado | BS3: Prom. Del Mes | BT3: anomalia Del mes | BU3: Maxima del mes | BV3: Max. Hist | BY3: ENE | BZ3: FEB | CA3: MAR | CB3: ABR | CC3: MAY | CD3: JUN | CE3: JUL | CF3: AGO | CG3: SEP | CH3: OCT | CI3: NOV | CJ3: DIC | CL3: ENE | CM3: FEB | CN3: MAR | CO3: ABR | CP3: MAY | CQ3: JUN | CR3: JUL | CS3: AGO | CT3: SEP | CU3: OCT | CV3: NOV | CW3: DIC | CY3: ENE | CZ3: FEB | DA3: MAR | DB3: ABR | DC3: MAY | DD3: JUN | DE3: JUL | DF3: AGO | DG3: SEP | DH3: OCT | DI3: NOV | DJ3: DIC
F4: R E G I O N C A R I B E
A5: -81.716667 | B5: 12.583333 | C5: 1 | D5: 17015010 | F5: APTO SESQUICENTENA | G5: SAN ANDRES PROVIDENCIA Y STA C | H5: San Andrés | I5: 30.9 | J5: 31 | K5: 28.9 | L5: 31.1 | M5: 31.5 | N5: 31.5 | O5: 30.5 | P5: 31.8 | Q5: 31.4 | R5: 31.2 | S5: 30 | T5: 29 | U5: 30.8 | V5: 31.1 | W5: 31.2 | X5: 31.9 | Y5: 29.9 | Z5: 31.2 | AA5: 31.3 | AB5: 31.2 | AC5: 31.8 | AD5: 30.4 | AE5: 30.4 | AF5: 30.6 | AG5: 31.1 | AH5: 30.3 | AI5: 28.7 | AJ5: 29.9 | AK5: 29.9 | AL5: 30.6 | AN5: =+LOOKUP(1000,I5:AM5) -> 30.6 | AT5: =+MAX(I5:AM5) -> 31.9 | AU5: 32.7 | AV5: =+AT5-AU5 -> -0.8 | AX5: 30.5 | AY5: 30.3 | AZ5: 30.9 | BA5: 30.9 | BB5: 30.7 | BC5: 31 | BD5: 30.9 | BN5: =+LOOKUP(1000,AX5:BM5) -> 30.9 | BQ5: =+BN5-BP5 -> 30.9 | BS5: =+AVERAGE(AX5:BM5) -> 30.742857 | BT5: =+BS5-BP5 -> 30.742857 | BU5: =+MAX(AX5:BM5) -> 31 | BV5: 31.9 | BW5: =+BU5-BV5 -> -0.9 | BY5: 32 | BZ5: 31.5 | CA5: 33 | CB5: 33.2 | CC5: 33.8 | CD5: 33.1 | CE5: 32.7 | CF5: 33.2 | CG5: 33.5 | CH5: 34.8 | CI5: 32.7 | CJ5: 31.9 | CL5: 29.657143 | CM5: 29.751724 | CN5: 30.453571 | CO5: 30.917241 | CP5: 31.513793 | CQ5: 31.48 | CR5: 31.103333 | CS5: 31.558621 | CT5: 31.746429 | CU5: 31.772414 | CV5: 30.931034 | CW5: 30.106897 | CY5: 28.659259 | CZ5: 28.751852 | DA5: 29.207407 | DB5: 29.803571 | DC5: 30.164286 | DD5: 30.182143 | DE5: 29.953571 | DF5: 30.284615 | DG5: 30.557692 | DH5: 30.185185 | DI5: 29.555556 | DJ5: 29.092593
A6: -81.35 | B6: 13.366667 | C6: 1 | D6: 17025020 | F6: APTO EL EMBRUJO | G6: SAN ANDRES PROVIDENCIA Y STA C | H6: Providencia | I6: 30.2 | J6: 31.5 | K6: 28.9 | L6: 32.1 | M6: 32 | N6: 32.1 | O6: 28.5 | P6: 30.9 | Q6: 32 | R6: 31.9 | S6: 29 | T6: 31.1 | U6: 32 | V6: 31.5 | W6: 31.8 | X6: 32.1 | Y6: 32.2 | Z6: 31.7 | AA6: 31.8 | AB6: 31.8 | AC6: 32 | AD6: 30.4 | AE6: 30.2 | AF6: 31.5 | AG6: 31 | AH6: 31.4 | AI6: 30.2 | AJ6: 29.2 | AK6: 30 | AL6: 29.2 | AN6: =+LOOKUP(1000,I6:AM6) -> 29.2 | AT6: =+MAX(I6:AM6) -> 32.2 | AU6: 32.5 | AV6: =+AT6-AU6 -> -0.3 | AX6: 31.4 | AY6: 31.2 | AZ6: 31.1 | BA6: 31.2 | BB6: 31.5 | BC6: 28.9 | BD6: 31.5 | BN6: =+LOOKUP(1000,AX6:BM6) -> 31.5 | BQ6: =+BN6-BP6 -> 31.5 | BS6: =+AVERAGE(AX6:BM6) -> 30.971429 | BT6: =+BS6-BP6 -> 30.971429 | BU6: =+MAX(AX6:BM6) -> 31.5 | BV6: 31.7 | BW6: =+BU6-BV6 -> -0.2 | BY6: 31.3 | BZ6: 32.4 | CA6: 32.1 | CB6: 32.5 | CC6: 33.1 | CD6: 33.5 | CE6: 33.5 | CF6: 33.4 | CG6: 33.4 | CH6: 33.6 | CI6: 32.5 | CJ6: 31.7 | CL6: 29.952632 | CM6: 30.209524 | CN6: 30.738095 | CO6: 31.4 | CP6: 31.8 | CQ6: 31.841667 | CR6: 31.495833 | CS6: 31.947826 | CT6: 32.204545 | CU6: 31.921739 | CV6: 31.319048 | CW6: 30.426316 | CY6: 29.242105 | CZ6: 29.295238 | DA6: 29.819048 | DB6: 30.490476 | DC6: 30.663636 | DD6: 30.716667 | DE6: 30.575 | DF6: 30.927273 | DG6: 31.131818 | DH6: 30.617391 | DI6: 30.028571 | DJ6: 29.568421
A7: -74.228889 | B7: 11.128333 | C7: 4 | D7: 15015050 | F7: APTO SIMON BOLIVAR | G7: MAGDALENA | H7: Santa Marta | I7: 33.8 | J7: 34.2 | K7: 34.8 | L7: 34.6 | M7: 33.6 | N7: 34 | O7: 34.2 | P7: 36.2 | Q7: 35.6 | R7: 33.8 | S7: 34 | T7: 34.8 | U7: 33.8 | V7: 33.8 | W7: 32.8 | X7: 33 | Y7: 33.4 | Z7: 34.4 | AA7: 34.8 | AB7: 32.8 | AC7: 33.6 | AD7: 33.6 | AE7: 33.8 | AF7: 34 | AG7: 33.6 | AH7: 34.6 | AI7: 35.2 | AJ7: 31.8 | AK7: 27.8 | AL7: 32.8 | AN7: =+LOOKUP(1000,I7:AM7) -> 32.8 | AT7: =+MAX(I7:AM7) -> 36.2 | AU7: 38.2 | AV7: =+AT7-AU7 -> -2 | AX7: 30.4 | AY7: 32 | AZ7: 32.2 | BA7: 32.4 | BB7: 32.6 | BC7: 34 | BD7: 34 | BN7: =+LOOKUP(1000,AX7:BM7) -> 34 | BQ7: =+BN7-BP7 -> 34 | BS7: =+AVERAGE(AX7:BM7) -> 32.514286 | BT7: =+BS7-BP7 -> 32.514286 | BU7: =+MAX(AX7:BM7) -> 34 | BV7: 36.2 | BW7: =+BU7-BV7 -> -2.2 | BY7: 36.9 | BZ7: 38.2 | CA7: 38.1 | CB7: 37.6 | CC7: 38.2 | CD7: 38.6 | CE7: 38.4 | CF7: 38.4 | CG7: 37.9 | CH7: 37 | CI7: 38.2 | CJ7: 36.2 | CL7: 34.989286 | CM7: 35.634483 | CN7: 35.937931 | CO7: 36.275862 | CP7: 35.875862 | CQ7: 35.913793 | CR7: 36.164286 | CS7: 35.803571 | CT7: 34.931034 | CU7: 34.313793 | CV7: 34.227586 | CW7: 34.224138 | CY7: 33.02963 | CZ7: 33.585185 | DA7: 33.759259 | DB7: 33.571429 | DC7: 32.925 | DD7: 33.003571 | DE7: 32.975 | DF7: 32.835714 | DG7: 32.546429 | DH7: 32.12963 | DI7: 32.066667 | DJ7: 32.425
A8: -75.516028 | B8: 10.44725 | C8: 2 | D8: 14015080 | F8: APTO RAFAEL NUNEZ | G8: BOLIVAR | H8: Cartagena | I8: 34 | J8: 34.2 | K8: 32.8 | L8: 33.2 | M8: 31.8 | N8: 33.2 | O8: 34.4 | P8: 35 | Q8: 34.4 | R8: 32.2 | S8: 34 | T8: 33.4 | U8: 34 | V8: 33.3 | W8: 32.2 | X8: 33.4 | Y8: 33.2 | Z8: 35.8 | AA8: 33.4 | AB8: 32.9 | AC8: 33.4 | AD8: 33.6 | AE8: 33.2 | AF8: 31.3 | AG8: 33 | AH8: 32.5 | AI8: 33.6 | AJ8: 29.7 | AK8: 29.2 | AL8: 31 | AN8: =+LOOKUP(1000,I8:AM8) -> 31 | AT8: =+MAX(I8:AM8) -> 35.8 | AU8: 35.5 | AV8: =+AT8-AU8 -> 0.3 | AX8: 32.1 | AY8: 32 | AZ8: 33 | BA8: 33.2 | BB8: 32.2 | BC8: 33.8 | BD8: 34 | BN8: =+LOOKUP(1000,AX8:BM8) -> 34 | BQ8: =+BN8-BP8 -> 34 | BS8: =+AVERAGE(AX8:BM8) -> 32.9 | BT8: =+BS8-BP8 -> 32.9 | BU8: =+MAX(AX8:BM8) -> 34 | BV8: 37 | BW8: =+BU8-BV8 -> -3 | BY8: 34.6 | BZ8: 36.1 | CA8: 35.4 | CB8: 35.3 | CC8: 37.3 | CD8: 40.4 | CE8: 38 | CF8: 36.9 | CG8: 36.8 | CH8: 36.3 | CI8: 35.8 | CJ8: 37 | CL8: 32.367857 | CM8: 32.610714 | CN8: 33.007143 | CO8: 33.125926 | CP8: 33.576923 | CQ8: 34.144444 | CR8: 33.864286 | CS8: 33.914286 | CT8: 33.978571 | CU8: 33.460714 | CV8: 33.096429 | CW8: 32.492593 | CY8: 30.607143 | CZ8: 30.651852 | DA8: 30.821429 | DB8: 31.162963 | DC8: 31.519231 | DD8: 31.833333 | DE8: 31.764286 | DF8: 31.775 | DG8: 31.525926 | DH8: 31.221429 | DI8: 31.214815 | DJ8: 30.869231
A9: -74.779722 | B9: 10.917778 | C9: 14 | D9: 29045190 | F9: APTO E CORTISSOZ | G9: ATLANTICO | H9: B/quilla (Soledad) | I9: 34.4 | J9: 33 | K9: 33.3 | L9: 32.7 | M9: 33.3 | N9: 32.7 | O9: 36 | P9: 33.9 | Q9: 35.3 | R9: 32.6 | S9: 33.2 | T9: 34.1 | U9: 35.5 | V9: 34.4 | W9: 34.1 | X9: 31.5 | Y9: 33.2 | Z9: 33.8 | AA9: 33.4 | AB9: 35 | AC9: 33 | AD9: 34.3 | AE9: 33.6 | AF9: 32.5 | AG9: 32.1 | AH9: 33.1 | AI9: 35.2 | AJ9: 30.2 | AK9: 27.2 | AL9: 30.2 | AN9: =+LOOKUP(1000,I9:AM9) -> 30.2 | AT9: =+MAX(I9:AM9) -> 36 | AU9: 38.4 | AV9: =+AT9-AU9 -> -2.4 | AX9: 32.6 | AY9: 32.4 | AZ9: 32.4 | BA9: 31.9 | BB9: 34.3 | BC9: 33.9 | BD9: 33.6 | BN9: =+LOOKUP(1000,AX9:BM9) -> 33.6 | BQ9: =+BN9-BP9 -> 33.6 | BS9: =+AVERAGE(AX9:BM9) -> 33.014286 | BT9: =+BS9-BP9 -> 33.014286 | BU9: =+MAX(AX9:BM9) -> 34.3 | BV9: 37.2 | BW9: =+BU9-BV9 -> -2.9 | BY9: 35.8 | BZ9: 37.6 | CA9: 38.3 | CB9: 38.4 | CC9: 38.2 | CD9: 38.6 | CE9: 38.4 | CF9: 38.7 | CG9: 38.4 | CH9: 38.6 | CI9: 38.4 | CJ9: 37.2 | CL9: 33.773077 | CM9: 34.45 | CN9: 35.326923 | CO9: 35.822222 | CP9: 36.040741 | CQ9: 35.825926 | CR9: 35.377778 | CS9: 35.896 | CT9: 35.719231 | CU9: 34.968 | CV9: 34.576 | CW9: 33.984 | CY9: 31.415385 | CZ9: 31.676923 | DA9: 32.369231 | DB9: 33.12963 | DC9: 33.418519 | DD9: 33.188889 | DE9: 32.914815 | DF9: 33.332 | DG9: 32.976 | DH9: 32.488 | DI9: 32.170833 | DJ9: 31.688
A10: -72.917694 | B10: 11.528222 | C10: 4 | D10: 15065180 | F10: APTO ALM PADILLA | G10: LA GUAJIRA | H10: Riohacha | I10: 34.4 | J10: 34.6 | K10: 34.2 | L10: 33.1 | M10: 33.9 | N10: 34.2 | O10: 34.6 | P10: 35.1 | Q10: 35.2 | R10: 34.7 | S10: 31.2 | T10: 34.5 | U10: 33.2 | V10: 34.1 | W10: 30.8 | X10: 31.1 | Y10: 32.4 | Z10: 31.9 | AA10: 34.9 | AB10: 34.1 | AC10: 34.4 | AD10: 34.8 | AE10: 32.2 | AF10: 33.6 | AG10: 34.4 | AH10: 34.5 | AI10: 34.9 | AJ10: 34 | AK10: 28.9 | AL10: 33.2 | AN10: =+LOOKUP(1000,I10:AM10) -> 33.2 | AT10: =+MAX(I10:AM10) -> 35.2 | AU10: 39 | AV10: =+AT10-AU10 -> -3.8 | AX10: 31.7 | AY10: 30.5 | AZ10: 31.4 | BA10: 30.9 | BB10: 33.9 | BC10: 33.5 | BD10: 33.8 | BN10: =+LOOKUP(1000,AX10:BM10) -> 33.8 | BQ10: =+BN10-BP10 -> 33.8 | BS10: =+AVERAGE(AX10:BM10) -> 32.242857 | BT10: =+BS10-BP10 -> 32.242857 | BU10: =+MAX(AX10:BM10) -> 33.9 | BV10: 36.2 | BW10: =+BU10-BV10 -> -2.3 | BY10: 38.4 | BZ10: 38 | CA10: 39.8 | CB10: 38.6 | CC10: 38.4 | CD10: 39.4 | CE10: 39.2 | CF10: 39.4 | CG10: 39.6 | CH10: 38.3 | CI10: 39 | CJ10: 36.2 | CL10: 34.742857 | CM10: 35.289474 | CN10: 36.145 | CO10: 36.371429 | CP10: 36.652381 | CQ10: 36.795238 | CR10: 37.590476 | CS10: 37.84 | CT10: 37.242857 | CU10: 35.79 | CV10: 34.75 | CW10: 34.336842 | CY10: 32.514286 | CZ10: 32.557895 | DA10: 32.847368 | DB10: 32.961905 | DC10: 33.533333 | DD10: 34.466667 | DE10: 35.2 | DF10: 35.075 | DG10: 33.69 | DH10: 32.847368 | DI10: 32.242105 | DJ10: 32.352632
A11: -73.249444 | B11: 10.439444 | C11: 138 | D11: 28025502 | F11: APTO ALFONSO LOPEZ | G11: CESAR | H11: Valledupar | I11: 35.3 | J11: 34.9 | K11: 34.5 | L11: 34.9 | M11: 33.5 | N11: 34.3 | O11: 35.5 | P11: 35.9 | Q11: 36.9 | R11: 33.8 | S11: 34.7 | T11: 36 | U11: 35.5 | V11: 35.3 | W11: 34.6 | X11: 32.4 | Y11: 35.1 | Z11: 35.9 | AA11: 36.1 | AB11: 34.9 | AC11: 35.4 | AD11: 36.2 | AE11: 35.1 | AF11: 35.2 | AG11: 35.1 | AH11: 35.6 | AI11: 35.7 | AJ11: 33.8 | AK11: 30.7 | AL11: 34.5 | AN11: =+LOOKUP(1000,I11:AM11) -> 34.5 | AT11: =+MAX(I11:AM11) -> 36.9 | AU11: 37.4 | AV11: =+AT11-AU11 -> -0.5 | AX11: 31.3 | AY11: 35.3 | AZ11: 34.7 | BA11: 35 | BB11: 35.2 | BC11: 34.9 | BD11: 35.6 | BN11: =+LOOKUP(1000,AX11:BM11) -> 35.6 | BQ11: =+BN11-BP11 -> 35.6 | BS11: =+AVERAGE(AX11:BM11) -> 34.571429 | BT11: =+BS11-BP11 -> 34.571429 | BU11: =+MAX(AX11:BM11) -> 35.6 | BV11: 39.5 | BW11: =+BU11-BV11 -> -3.9 | BY11: 40.2 | BZ11: 41.8 | CA11: 41.8 | CB11: 41.2 | CC11: 40.2 | CD11: 41 | CE11: 41.4 | CF11: 41.2 | CG11: 40.2 | CH11: 39 | CI11: 37.4 | CJ11: 39.5 | CL11: 36.9 | CM11: 38.142857 | CN11: 38.738095 | CO11: 38.261905 | CP11: 37.031818 | CQ11: 36.808696 | CR11: 37.978261 | CS11: 38.138095 | CT11: 37.333333 | CU11: 35.68 | CV11: 34.857143 | CW11: 35.538095 | CY11: 34.780952 | CZ11: 35.647619 | DA11: 36.009524 | DB11: 35.5 | DC11: 33.990909 | DD11: 34.004348 | DE11: 35.221739 | DF11: 34.995238 | DG11: 33.77619 | DH11: 32.815 | DI11: 32.847619 | DJ11: 33.652381
A12: -75.283056 | B12: 9.3338889 | C12: 166 | F12: APTO RAFAEL BARVO | G12: SUCRE | H12: Corozal
A13: -75.825139 | B13: 8.8258333 | C13: 20 | D13: 13035501 | F13: APTO LOS GARZONES | G13: CORDOBA | H13: Montería | I13: 33 | J13: 31.7 | K13: 32.6 | L13: 33.4 | M13: 33.8 | N13: 34.2 | O13: 33 | P13: 35.4 | Q13: 35.2 | R13: 32.8 | S13: 33.2 | T13: 33.6 | U13: 33 | V13: 34.1 | W13: 32 | X13: 32.9 | Y13: 33.6 | Z13: 33.2 | AA13: 34.2 | AB13: 33 | AC13: 33.4 | AD13: 35.2 | AE13: 32.4 | AF13: 33.6 | AG13: 34.4 | AH13: 34.2 | AI13: 34.2 | AJ13: 31.4 | AK13: 28.5 | AL13: 33 | AN13: =+LOOKUP(1000,I13:AM13) -> 33 | AT13: =+MAX(I13:AM13) -> 35.4 | AU13: 36.8 | AV13: =+AT13-AU13 -> -1.4 | AX13: 30.2 | AY13: 32.4 | AZ13: 31.5 | BA13: 34 | BB13: 33.6 | BC13: 32.8 | BD13: 31 | BN13: =+LOOKUP(1000,AX13:BM13) -> 31 | BQ13: =+BN13-BP13 -> 31 | BS13: =+AVERAGE(AX13:BM13) -> 32.214286 | BT13: =+BS13-BP13 -> 32.214286 | BU13: =+MAX(AX13:BM13) -> 34 | BV13: 36.8 | BW13: =+BU13-BV13 -> -2.8 | BY13: 38.1 | BZ13: 41.2 | CA13: 38.6 | CB13: 38.8 | CC13: 38.6 | CD13: 38.8 | CE13: 38.4 | CF13: 36.9 | CG13: 37.5 | CH13: 36.5 | CI13: 36.8 | CJ13: 36.8 | CL13: 35.363636 | CM13: 36.477273 | CN13: 36.586364 | CO13: 36.419048 | CP13: 35.554545 | CQ13: 35.357895 | CR13: 35.445455 | CS13: 35.204762 | CT13: 34.952381 | CU13: 34.633333 | CV13: 34.2 | CW13: 34.547619 | CY13: 33.719048 | CZ13: 34.245 | DA13: 34.32 | DB13: 34.005 | DC13: 32.919048 | DD13: 32.788889 | DE13: 32.933333 | DF13: 32.925 | DG13: 32.425 | DH13: 32.365 | DI13: 32.395 | DJ13: 32.91
A14: -76.717833 | B14: 7.8166667 | C14: 19 | D14: 12015070 | F14: APTO LOS CEDROS | G14: ANTIOQUIA | H14: Carepa | I14: 31.9 | J14: 30.2 | K14: 30.6 | L14: 32.1 | M14: 30.6 | N14: 31.2 | O14: 31.1 | P14: 32.8 | Q14: 30.4 | R14: 31.6 | S14: 32.7 | T14: 32.5 | U14: 31 | V14: 29.5 | W14: 30.6 | X14: 30.2 | Y14: 30.5 | Z14: 30.7 | AA14: 30.2 | AB14: 32 | AC14: 31.8 | AD14: 31.6 | AE14: 27.8 | AF14: 29.8 | AG14: 30.7 | AH14: 31.6 | AI14: 31 | AJ14: 27.1 | AK14: 30.5 | AL14: 32.3 | AN14: =+LOOKUP(1000,I14:AM14) -> 32.3 | AT14: =+MAX(I14:AM14) -> 32.8 | AU14: 35 | AV14: =+AT14-AU14 -> -2.2 | AX14: 30.2 | AY14: 31.9 | AZ14: 32.8 | BA14: 31.2 | BB14: 32.1 | BC14: 33.1 | BD14: 31.9 | BN14: =+LOOKUP(1000,AX14:BM14) -> 31.9 | BQ14: =+BN14-BP14 -> 31.9 | BS14: =+AVERAGE(AX14:BM14) -> 31.885714 | BT14: =+BS14-BP14 -> 31.885714 | BU14: =+MAX(AX14:BM14) -> 33.1 | BV14: 33.8 | BW14: =+BU14-BV14 -> -0.7 | BY14: 34.6 | BZ14: 36.1 | CA14: 36.5 | CB14: 35.9 | CC14: 35.4 | CD14: 35.2 | CE14: 36 | CF14: 35.2 | CG14: 35.4 | CH14: 35.4 | CI14: 35 | CJ14: 33.8 | CL14: 32.1 | CM14: 32.188 | CN14: 32.7625 | CO14: 33.123077 | CP14: 33.54 | CQ14: 33.408333 | CR14: 33.570833 | CS14: 33.745455 | CT14: 33.754167 | CU14: 33.465385 | CV14: 32.984615 | CW14: 32.626923 | CY14: 30.641667 | CZ14: 30.629167 | DA14: 30.7625 | DB14: 31.061538 | DC14: 31.5 | DD14: 31.470833 | DE14: 31.525 | DF14: 31.736364 | DG14: 31.691667 | DH14: 31.496154 | DI14: 31.207692 | DJ14: 30.869231
F15: R E G I O N A N D I N A
A16: -73.808611 | B16: 7.0263889 | C16: 126 | D16: 23155030 | F16: APTO YARIGUIES | G16: SANTANDER | H16: Barrancabermeja | I16: 30.4 | J16: 34.2 | K16: 30.4 | L16: 31 | M16: 32 | N16: 31 | O16: 33.6 | P16: 35 | Q16: 34.2 | R16: 34.2 | S16: 30.4 | T16: 33.8 | U16: 29.8 | V16: 28.6 | W16: 32 | X16: 31 | Y16: 29.2 | Z16: 32.4 | AA16: 33.4 | AB16: 30.4 | AC16: 29.2 | AD16: 33 | AE16: 33 | AF16: 30.6 | AG16: 33 | AH16: 34.2 | AI16: 32.4 | AJ16: 26.2 | AK16: 29.6 | AL16: 31.6 | AN16: =+LOOKUP(1000,I16:AM16) -> 31.6 | AT16: =+MAX(I16:AM16) -> 35 | AU16: 35.8 | AV16: =+AT16-AU16 -> -0.8 | AX16: 27.6 | AY16: 31.4 | AZ16: 32.8 | BA16: 32.4 | BB16: 33 | BC16: 33.1 | BD16: 31.8 | BN16: =+LOOKUP(1000,AX16:BM16) -> 31.8 | BQ16: =+BN16-BP16 -> 31.8 | BS16: =+AVERAGE(AX16:BM16) -> 31.728571 | BT16: =+BS16-BP16 -> 31.728571 | BU16: =+MAX(AX16:BM16) -> 33.1 | BV16: 36.4 | BW16: =+BU16-BV16 -> -3.3 | BY16: 37.6 | BZ16: 38 | CA16: 38.4 | CB16: 37.7 | CC16: 36.4 | CD16: 37 | CE16: 37.6 | CF16: 37.2 | CG16: 36.6 | CH16: 35.8 | CI16: 35.8 | CJ16: 36.4 | CL16: 34.726667 | CM16: 35.503333 | CN16: 35.206667 | CO16: 34.91 | CP16: 34.373333 | CQ16: 34.633333 | CR16: 34.896552 | CS16: 34.85 | CT16: 34.336667 | CU16: 33.686207 | CV16: 33.344828 | CW16: 33.556667 | CY16: 32.793333 | CZ16: 33.133333 | DA16: 32.573333 | DB16: 31.963333 | DC16: 31.84 | DD16: 31.993333 | DE16: 32.434483 | DF16: 32.36 | DG16: 31.72 | DH16: 31.110345 | DI16: 31.168966 | DJ16: 31.733333
A17: -73.184528 | B17: 7.1214722 | C17: 1189 | D17: 23195502 | F17: APTO PALONEGRO (B/manga 959 msnm) | G17: SANTANDER | H17: Lebrija (1055 msnm) | I17: 28.4 | J17: 27.8 | K17: 27.6 | L17: 27.4 | M17: 26.9 | N17: 28 | O17: 27.5 | P17: 28 | Q17: 27.1 | R17: 28.8 | S17: 26.4 | T17: 26.8 | U17: 26.3 | V17: 27.9 | W17: 27.1 | X17: 25.5 | Y17: 26.1 | Z17: 27.3 | AA17: 28.4 | AB17: 26.7 | AC17: 25.3 | AD17: 28.6 | AE17: 27.9 | AF17: 23.2 | AG17: 28.1 | AH17: 27.7 | AI17: 27.4 | AJ17: 22.7 | AK17: 24.2 | AL17: 25.6 | AN17: =+LOOKUP(1000,I17:AM17) -> 25.6 | AT17: =+MAX(I17:AM17) -> 28.8 | AU17: 30.3 | AV17: =+AT17-AU17 -> -1.5 | AX17: 21.3 | AY17: 25.9 | AZ17: 26.7 | BA17: 26.6 | BB17: 26.9 | BC17: 26.7 | BD17: 27.2 | BN17: =+LOOKUP(1000,AX17:BM17) -> 27.2 | BQ17: =+BN17-BP17 -> 27.2 | BS17: =+AVERAGE(AX17:BM17) -> 25.9 | BT17: =+BS17-BP17 -> 25.9 | BU17: =+MAX(AX17:BM17) -> 27.2 | BV17: 30.6 | BW17: =+BU17-BV17 -> -3.4 | BY17: 31.4 | BZ17: 32.2 | CA17: 32 | CB17: 30.6 | CC17: 30.3 | CD17: 30 | CE17: 31.6 | CF17: 30.7 | CG17: 31.8 | CH17: 32.4 | CI17: 30.3 | CJ17: 30.6 | CL17: 27.516667 | CM17: 28.046667 | CN17: 27.927586 | CO17: 27.666667 | CP17: 27.903333 | CQ17: 27.886667 | CR17: 27.872414 | CS17: 28.35 | CT17: 28.53 | CU17: 28.227586 | CV17: 27.116667 | CW17: 27.133333 | CY17: 25.3 | CZ17: 25.526667 | DA17: 25.389655 | DB17: 25.333333 | DC17: 25.62 | DD17: 25.57 | DE17: 25.755172 | DF17: 26.016667 | DG17: 25.963333 | DH17: 25.355172 | DI17: 24.863333 | DJ17: 24.983333
A18: -72.509167 | B18: 7.9302778 | C18: 250 | D18: 16015010 | F18: APTO CAMILO DAZA | G18: NORTE DE SANTANDER | H18: Cúcuta | I18: 33.9 | J18: 34.5 | K18: 34.1 | L18: 31.4 | M18: 32.3 | N18: 32.1 | O18: 33.2 | P18: 32.6 | Q18: 33 | R18: 35.3 | S18: 33.3 | T18: 31.5 | U18: 31.3 | V18: 33.2 | W18: 33 | X18: 31.7 | Y18: 32.3 | Z18: 34.3 | AA18: 32.4 | AB18: 32.5 | AC18: 31.8 | AD18: 33 | AE18: 29.3 | AF18: 28.9 | AG18: 32.7 | AH18: 35.6 | AI18: 35.4 | AJ18: 30.5 | AK18: 29.8 | AL18: 30.3 | AN18: =+LOOKUP(1000,I18:AM18) -> 30.3 | AT18: =+MAX(I18:AM18) -> 35.6 | AU18: 36.8 | AV18: =+AT18-AU18 -> -1.2 | AX18: 26 | AY18: 30.5 | AZ18: 29.2 | BA18: 30.1 | BB18: 30.3 | BC18: 30.1 | BD18: 29.9 | BN18: =+LOOKUP(1000,AX18:BM18) -> 29.9 | BQ18: =+BN18-BP18 -> 29.9 | BS18: =+AVERAGE(AX18:BM18) -> 29.442857 | BT18: =+BS18-BP18 -> 29.442857 | BU18: =+MAX(AX18:BM18) -> 30.5 | BV18: 37 | BW18: =+BU18-BV18 -> -6.5 | BY18: 37.3 | BZ18: 38 | CA18: 38 | CB18: 38.2 | CC18: 38.8 | CD18: 37.2 | CE18: 37.7 | CF18: 38.7 | CG18: 39.5 | CH18: 38.2 | CI18: 36.8 | CJ18: 37 | CL18: 33.823333 | CM18: 34.593333 | CN18: 34.986667 | CO18: 35.353333 | CP18: 36.058621 | CQ18: 35.560714 | CR18: 35.917241 | CS18: 36.662069 | CT18: 36.948276 | CU18: 35.966667 | CV18: 34.433333 | CW18: 33.062069 | CY18: 30.273333 | CZ18: 30.776667 | DA18: 31.07 | DB18: 31.533333 | DC18: 32.778571 | DD18: 32.862963 | DE18: 32.993103 | DF18: 33.942857 | DG18: 34.031034 | DH18: 32.743333 | DI18: 31.166667 | DJ18: 30.055172
A19: -75.588972 | B19: 6.2206111 | C19: 1490 | D19: 27015330 | F19: APTO OLAYA HERRERA | G19: ANTIOQUIA | H19: Medellín | I19: 30.5 | J19: 30.6 | K19: 28.6 | L19: 25.9 | M19: 27.4 | N19: 29.4 | O19: 29.2 | P19: 30.3 | Q19: 29.7 | R19: 28.5 | S19: 28.7 | T19: 27.6 | U19: 28.4 | V19: 25 | W19: 25.2 | X19: 26.4 | Y19: 30.5 | Z19: 30.9 | AA19: 27.6 | AB19: 26.4 | AC19: 27.8 | AD19: 29.6 | AE19: 27.3 | AF19: 27.1 | AG19: 27.7 | AH19: 30.1 | AI19: 23.6 | AJ19: 27.8 | AK19: 26.7 | AL19: 28.2 | AN19: =+LOOKUP(1000,I19:AM19) -> 28.2 | AT19: =+MAX(I19:AM19) -> 30.9 | AU19: 31.2 | AV19: =+AT19-AU19 -> -0.3 | AX19: 26 | AY19: 26.6 | AZ19: 27.1 | BA19: 26 | BB19: 22.8 | BC19: 28.6 | BD19: 28.6 | BN19: =+LOOKUP(1000,AX19:BM19) -> 28.6 | BQ19: =+BN19-BP19 -> 28.6 | BS19: =+AVERAGE(AX19:BM19) -> 26.528571 | BT19: =+BS19-BP19 -> 26.528571 | BU19: =+MAX(AX19:BM19) -> 28.6 | BV19: 32.8 | BW19: =+BU19-BV19 -> -4.2 | BY19: 33.7 | BZ19: 33.6 | CA19: 33.8 | CB19: 33.4 | CC19: 33.6 | CD19: 33.1 | CE19: 33.2 | CF19: 33.6 | CG19: 33.1 | CH19: 31.9 | CI19: 31.2 | CJ19: 32.8 | CL19: 30.384615 | CM19: 31.084615 | CN19: 31.030769 | CO19: 31.003846 | CP19: 30.903704 | CQ19: 30.940741 | CR19: 30.874074 | CS19: 31.126923 | CT19: 30.928 | CU19: 30.003846 | CV19: 29.837037 | CW19: 29.865385 | CY19: 27.757692 | CZ19: 28.180769 | DA19: 28.138462 | DB19: 27.638462 | DC19: 27.814815 | DD19: 28.155556 | DE19: 28.392593 | DF19: 28.526923 | DG19: 27.96 | DH19: 27.180769 | DI19: 27.114815 | DJ19: 27.211538
A20: -75.425833 | B20: 6.1686111 | C20: 2073 | D20: 23085270 | F20: APTO J M CORDOVA | G20: ANTIOQUIA | H20: Rionegro | I20: 23.7 | J20: 24.4 | K20: 23.5 | L20: 21.7 | M20: 22.7 | N20: 22.2 | O20: 24 | P20: 24.1 | Q20: 24.2 | R20: 24.4 | S20: 23.3 | T20: 23.6 | U20: 22.4 | V20: 21.3 | W20: 21.4 | X20: 22 | Y20: 23.6 | Z20: 24.4 | AA20: 21.8 | AB20: 21.6 | AC20: 22.2 | AD20: 23 | AE20: 22.8 | AF20: 22.4 | AG20: 22.2 | AH20: 23.6 | AI20: 19 | AJ20: 22 | AK20: 20 | AL20: 20.7 | AN20: =+LOOKUP(1000,I20:AM20) -> 20.7 | AT20: =+MAX(I20:AM20) -> 24.4 | AU20: 25.9 | AV20: =+AT20-AU20 -> -1.5 | AX20: 21 | AY20: 20.6 | AZ20: 20 | BA20: 20.4 | BB20: 18.2 | BC20: 21.2 | BD20: 22.3 | BN20: =+LOOKUP(1000,AX20:BM20) -> 22.3 | BQ20: =+BN20-BP20 -> 22.3 | BS20: =+AVERAGE(AX20:BM20) -> 20.528571 | BT20: =+BS20-BP20 -> 20.528571 | BU20: =+MAX(AX20:BM20) -> 22.3 | BV20: 25.6 | BW20: =+BU20-BV20 -> -3.3 | BY20: 26.7 | BZ20: 27.8 | CA20: 26.8 | CB20: 26.3 | CC20: 27.3 | CD20: 26.8 | CE20: 25.8 | CF20: 25.9 | CG20: 26.9 | CH20: 31.5 | CI20: 25.9 | CJ20: 25.6 | CL20: 23.85 | CM20: 24.529167 | CN20: 24.428 | CO20: 24.4125 | CP20: 24.732 | CQ20: 24.195833 | CR20: 24.04 | CS20: 24.270833 | CT20: 24.320833 | CU20: 23.992 | CV20: 23.583333 | CW20: 23.68 | CY20: 21.825 | CZ20: 22.204167 | DA20: 22.304 | DB20: 22.245833 | DC20: 22.476 | DD20: 22.5125 | DE20: 22.48 | DF20: 22.570833 | DG20: 22.4375 | DH20: 21.76 | DI20: 21.6375 | DJ20: 21.672
A21: -75.469944 | B21: 5.02975 | C21: 2058 | D21: 26155110 | F21: APTO LA NUBIA | G21: CALDAS | H21: Manizales | AU21: 25 | BV21: 28 | BY21: 27 | BZ21: 27.4 | CA21: 26.2 | CB21: 26.6 | CC21: 26 | CD21: 25.8 | CE21: 26.2 | CF21: 28 | CG21: 28 | CH21: 25 | CI21: 25 | CJ21: 28 | CL21: 23.8625 | CM21: 24.517647 | CN21: 24.4 | CO21: 24.278947 | CP21: 24.047368 | CQ21: 23.936842 | CR21: 24.173684 | CS21: 24.663158 | CT21: 23.964706 | CU21: 23.2 | CV21: 23.2 | CW21: 23.747059 | CY21: 21.515789 | CZ21: 21.96 | DA21: 21.757143 | DB21: 21.366667 | DC21: 21.266667 | DD21: 21.252381 | DE21: 21.547619 | DF21: 21.747619 | DG21: 21.245 | DH21: 20.604762 | DI21: 20.63 | DJ21: 21.085714
A22: -75.733861 | B22: 4.8158611 | C22: 1342 | D22: 26135040 | F22: APTO MATECANA | G22: RISARALDA | H22: Pereira | I22: 27.8 | J22: 27 | K22: 26.4 | L22: 25.8 | M22: 25.6 | N22: 23.8 | O22: 29.8 | P22: 28 | Q22: 26.9 | R22: 27.2 | S22: 27.9 | T22: 26.9 | U22: 24.3 | V22: 23.4 | W22: 26.9 | X22: 26 | Y22: 28.5 | Z22: 28.6 | AA22: 26.7 | AB22: 24.8 | AC22: 27.2 | AD22: 29 | AE22: 25.3 | AF22: 24 | AG22: 28 | AH22: 28.8 | AI22: 23.8 | AJ22: 23.6 | AK22: 26.4 | AL22: 29.2 | AN22: =+LOOKUP(1000,I22:AM22) -> 29.2 | AT22: =+MAX(I22:AM22) -> 29.8 | AU22: 30.1 | AV22: =+AT22-AU22 -> -0.3 | AX22: 28 | AY22: 25.2 | AZ22: 29 | BA22: 27 | BB22: 23.9 | BC22: 28.6 | BD22: 27.9 | BN22: =+LOOKUP(1000,AX22:BM22) -> 27.9 | BQ22: =+BN22-BP22 -> 27.9 | BS22: =+AVERAGE(AX22:BM22) -> 27.085714 | BT22: =+BS22-BP22 -> 27.085714 | BU22: =+MAX(AX22:BM22) -> 29 | BV22: 31.6 | BW22: =+BU22-BV22 -> -2.6 | BY22: 32.7 | BZ22: 33.5 | CA22: 33.3 | CB22: 31.7 | CC22: 31.2 | CD22: 32.8 | CE22: 32.5 | CF22: 32.6 | CG22: 32.8 | CH22: 31.3 | CI22: 30.1 | CJ22: 31.6 | CL22: 29.37931 | CM22: 29.748276 | CN22: 29.858621 | CO22: 29.196552 | CP22: 28.693103 | CQ22: 28.846429 | CR22: 29.577778 | CS22: 29.838462 | CT22: 29.611538 | CU22: 28.346154 | CV22: 28.111111 | CW22: 28.288889 | CY22: 26.843333 | CZ22: 27.073333 | DA22: 26.886667 | DB22: 26.16 | DC22: 25.9 | DD22: 25.95 | DE22: 26.49 | DF22: 26.85 | DG22: 26.44 | DH22: 25.793333 | DI22: 25.63 | DJ22: 26.02
A23: -75.766389 | B23: 4.4546667 | C23: 1229 | D23: 26125061 | F23: APTO EL EDEN (Armenia) | G23: QUINDIO | H23: La Tebaida | I23: 27.9 | J23: 26.7 | K23: 27.2 | L23: 26.7 | M23: 26 | N23: 25 | O23: 29.5 | P23: 27.9 | Q23: 27.6 | R23: 28.4 | S23: 30.2 | T23: 26.2 | U23: 25.5 | V23: 24.7 | W23: 28 | X23: 25.6 | Y23: 28.3 | Z23: 28.9 | AA23: 27.3 | AB23: 23.4 | AC23: 27.5 | AD23: 28.4 | AE23: 24.5 | AF23: 25.7 | AG23: 28.6 | AH23: 29.5 | AI23: 23 | AJ23: 23.6 | AK23: 25.4 | AL23: 27.1 | AN23: =+LOOKUP(1000,I23:AM23) -> 27.1 | AT23: =+MAX(I23:AM23) -> 30.2 | AU23: 31 | AV23: =+AT23-AU23 -> -0.8 | AX23: 28.4 | AY23: 26.7 | AZ23: 28.6 | BA23: 26.8 | BB23: 25.5 | BC23: 30.1 | BD23: 29.1 | BN23: =+LOOKUP(1000,AX23:BM23) -> 29.1 | BQ23: =+BN23-BP23 -> 29.1 | BS23: =+AVERAGE(AX23:BM23) -> 27.885714 | BT23: =+BS23-BP23 -> 27.885714 | BU23: =+MAX(AX23:BM23) -> 30.1 | BV23: 33 | BW23: =+BU23-BV23 -> -2.9 | BY23: 33.2 | BZ23: 34 | CA23: 33.7 | CB23: 32.2 | CC23: 32 | CD23: 34.2 | CE23: 34.2 | CF23: 34.4 | CG23: 35 | CH23: 32.8 | CI23: 31 | CJ23: 33 | CL23: 30.014815 | CM23: 30.661538 | CN23: 30.725926 | CO23: 30.414286 | CP23: 30.085185 | CQ23: 30.25 | CR23: 30.914286 | CS23: 31.359259 | CT23: 30.732 | CU23: 29.647826 | CV23: 29.46087 | CW23: 29.47619 | CY23: 27.78 | CZ23: 27.983333 | DA23: 27.933333 | DB23: 27.463333 | DC23: 27.27 | DD23: 27.386667 | DE23: 27.89 | DF23: 28.286667 | DG23: 27.72 | DH23: 27.096667 | DI23: 26.94 | DJ23: 27.223333
A24: -75.148417 | B24: 4.4301111 | C24: 928 | D24: 21245040 | F24: APTO PERALES | G24: TOLIMA | H24: Ibagué | I24: 29.6 | J24: 30.4 | K24: 27.3 | L24: 27.8 | M24: 28 | N24: 26 | O24: 29.4 | P24: 29.4 | Q24: 29.4 | R24: 30.4 | S24: 29.2 | T24: 30 | U24: 28.4 | V24: 26.5 | W24: 25.6 | X24: 25.7 | Y24: 26.7 | Z24: 28.2 | AA24: 29 | AB24: 28 | AC24: 27.8 | AD24: 29.1 | AE24: 28.9 | AF24: 25.4 | AG24: 28.8 | AH24: 30.2 | AI24: 27 | AJ24: 26.4 | AK24: 27.9 | AL24: 27.1 | AN24: =+LOOKUP(1000,I24:AM24) -> 27.1 | AT24: =+MAX(I24:AM24) -> 30.4 | AU24: 32.4 | AV24: =+AT24-AU24 -> -2 | AX24: 26.9 | AY24: 26 | AZ24: 28.4 | BA24: 28.1 | BB24: 27.8 | BC24: 28.2 | BD24: 29.1 | BN24: =+LOOKUP(1000,AX24:BM24) -> 29.1 | BQ24: =+BN24-BP24 -> 29.1 | BS24: =+AVERAGE(AX24:BM24) -> 27.785714 | BT24: =+BS24-BP24 -> 27.785714 | BU24: =+MAX(AX24:BM24) -> 29.1 | BV24: 35.7 | BW24: =+BU24-BV24 -> -6.6 | BY24: 36 | BZ24: 35.9 | CA24: 35.9 | CB24: 33.8 | CC24: 34 | CD24: 33.6 | CE24: 35.4 | CF24: 36.4 | CG24: 36.8 | CH24: 36.5 | CI24: 32.4 | CJ24: 35.7 | CL24: 31.293333 | CM24: 32.073333 | CN24: 31.946667 | CO24: 31.35 | CP24: 31.01 | CQ24: 31.471429 | CR24: 32.473333 | CS24: 33.524138 | CT24: 33.093103 | CU24: 31.696667 | CV24: 30.123333 | CW24: 30.3 | CY24: 28.823333 | CZ24: 29.136667 | DA24: 28.786667 | DB24: 28.216667 | DC24: 28.213333 | DD24: 28.85 | DE24: 29.803333 | DF24: 30.846429 | DG24: 29.939286 | DH24: 28.236667 | DI24: 27.523333 | DJ24: 27.98
A25: -74.150667 | B25: 4.7055833 | C25: 2547 | D25: 21205791 | F25: APTO EL DORADO | G25: BOGOTA DC | H25: Bogotá DC | I25: 21.1 | J25: 21.4 | K25: 21.4 | L25: 21 | M25: 20 | N25: 19.6 | O25: 22.1 | P25: 21.6 | Q25: 20.4 | R25: 19.5 | S25: 20.6 | T25: 21 | U25: 18.7 | V25: 18.8 | W25: 18.5 | X25: 19 | Y25: 21.3 | Z25: 21.7 | AA25: 20.2 | AB25: 19.4 | AC25: 20.9 | AD25: 21.7 | AE25: 21.4 | AF25: 19 | AG25: 20.2 | AH25: 19.7 | AI25: 21.3 | AJ25: 18.6 | AK25: 20.1 | AL25: 20.6 | AN25: =+LOOKUP(1000,I25:AM25) -> 20.6 | AT25: =+MAX(I25:AM25) -> 22.1 | AU25: 24.1 | AV25: =+AT25-AU25 -> -2 | AX25: 20.3 | AY25: 19.7 | AZ25: 19.8 | BA25: 20.5 | BB25: 19.3 | BC25: 20 | BD25: 19.9 | BN25: =+LOOKUP(1000,AX25:BM25) -> 19.9 | BQ25: =+BN25-BP25 -> 19.9 | BS25: =+AVERAGE(AX25:BM25) -> 19.928571 | BT25: =+BS25-BP25 -> 19.928571 | BU25: =+MAX(AX25:BM25) -> 20.5 | BV25: 23.8 | BW25: =+BU25-BV25 -> -3.3 | BY25: 25.2 | BZ25: 24.8 | CA25: 24.9 | CB25: 24.7 | CC25: 24.4 | CD25: 23.1 | CE25: 22.4 | CF25: 23.6 | CG25: 24.3 | CH25: 23.8 | CI25: 24.1 | CJ25: 23.8 | CL25: 22.134483 | CM25: 22.57931 | CN25: 22.386207 | CO25: 21.926667 | CP25: 21.67931 | CQ25: 21.003448 | CR25: 20.466667 | CS25: 21.006897 | CT25: 21.54 | CU25: 21.576667 | CV25: 21.473333 | CW25: 21.617241 | CY25: 19.944828 | CZ25: 20.017241 | DA25: 19.834483 | DB25: 19.526667 | DC25: 19.275862 | DD25: 18.768966 | DE25: 18.37 | DF25: 18.651724 | DG25: 19.063333 | DH25: 19.223333 | DI25: 19.316667 | DJ25: 19.693103
A26: -74.072889 | B26: 4.6071111 | C26: 2685 | D26: 21201600 | F26: SEDE IDEAM KRA 10 | G26: BOGOTA DC | H26: Bogotá DC
A27: -74.054222 | B27: 4.6869444 | C27: 2560 | D27: 21206540 | F27: EDIFICIO PREMIUM | G27: BOGOTA DC | H27: Bogotá DC
A28: -76.385583 | B28: 3.5333333 | C28: 961 | D28: 26075040 | F28: APTO A BONILLA AUT (Cali) | G28: VALLE DEL CAUCA | H28: Palmira | I28: 30.8 | J28: 31.1 | K28: 28.8 | L28: 30 | M28: 28.7 | N28: 28.7 | O28: 31.9 | P28: 31.1 | Q28: 30.5 | R28: 30.9 | S28: 31.4 | T28: 30.1 | U28: 28.9 | V28: 29.2 | W28: 30.4 | X28: 26.9 | Y28: 30.9 | Z28: 31.1 | AA28: 31 | AB28: 29.4 | AC28: 30 | AD28: 31.8 | AE28: 29.4 | AF28: 26.5 | AG28: 31 | AH28: 31.9 | AI28: 29.3 | AJ28: 22.2 | AK28: 29.2 | AL28: 28.2 | AN28: =+LOOKUP(1000,I28:AM28) -> 28.2 | AT28: =+MAX(I28:AM28) -> 31.9 | AU28: 33.4 | AV28: =+AT28-AU28 -> -1.5 | AX28: 30 | AY28: 28 | AZ28: 30.8 | BA28: 29.7 | BB28: 27 | BC28: 31.5 | BD28: 30.8 | BN28: =+LOOKUP(1000,AX28:BM28) -> 30.8 | BQ28: =+BN28-BP28 -> 30.8 | BS28: =+AVERAGE(AX28:BM28) -> 29.685714 | BT28: =+BS28-BP28 -> 29.685714 | BU28: =+MAX(AX28:BM28) -> 31.5 | BV28: 34 | BW28: =+BU28-BV28 -> -2.5 | BY28: 35.4 | BZ28: 36.4 | CA28: 35.7 | CB28: 34.8 | CC28: 33.3 | CD28: 35.3 | CE28: 36.6 | CF28: 36.1 | CG28: 36.2 | CH28: 34.5 | CI28: 33.4 | CJ28: 34 | CL28: 32.02069 | CM28: 32.567857 | CN28: 32.67931 | CO28: 32.144828 | CP28: 31.796429 | CQ28: 32.153571 | CR28: 32.686207 | CS28: 33.351724 | CT28: 33.065517 | CU28: 31.803704 | CV28: 31.292593 | CW28: 31.359259 | CY28: 29.943333 | CZ28: 30.2 | DA28: 30.086667 | DB28: 29.48 | DC28: 29.29 | DD28: 29.453333 | DE28: 30.143333 | DF28: 30.703333 | DG28: 30.183333 | DH28: 29.23 | DI28: 28.936667 | DJ28: 29.223333
A29: -76.608694 | B29: 2.4528889 | C29: 1749 | D29: 26035030 | F29: APTO G L VALENCIA | G29: CAUCA | H29: Popayán | AU29: 29 | BV29: 31 | BY29: 31 | BZ29: 31 | CA29: 30 | CB29: 29.7 | CC29: 32 | CD29: 29.5 | CE29: 29.6 | CF29: 32 | CG29: 31 | CH29: 30 | CI29: 29 | CJ29: 31 | CL29: 27.017857 | CM29: 27.446429 | CN29: 27.52069 | CO29: 27.58 | CP29: 27.937037 | CQ29: 27.662963 | CR29: 27.762963 | CS29: 28.296154 | CT29: 28.3 | CU29: 27.466667 | CV29: 26.537931 | CW29: 26.59 | CY29: 24.616667 | CZ29: 24.756667 | DA29: 24.8 | DB29: 24.716667 | DC29: 24.79 | DD29: 25.066667 | DE29: 25.336667 | DF29: 25.736667 | DG29: 25.546667 | DH29: 24.65 | DI29: 24.226667 | DJ29: 24.233333
A30: -75.293056 | B30: 2.94875 | C30: 439 | D30: 21115020 | F30: APTO BENITO SALAS | G30: HUILA | H30: Neiva | I30: 35.3 | J30: 35.7 | K30: 32.6 | L30: 33.8 | M30: 31.4 | N30: 31.8 | O30: 35.3 | P30: 34 | Q30: 33 | R30: 37.1 | S30: 34.4 | T30: 33.2 | U30: 32 | V30: 31.5 | W30: 29.2 | X30: 30.8 | Y30: 32.1 | Z30: 32.2 | AA30: 35 | AB30: 33.2 | AC30: 32.4 | AD30: 33.4 | AE30: 32.9 | AF30: 27.6 | AG30: 33.7 | AH30: 33 | AI30: 35.4 | AJ30: 30 | AK30: 32.6 | AL30: 31.6 | AN30: =+LOOKUP(1000,I30:AM30) -> 31.6 | AT30: =+MAX(I30:AM30) -> 37.1 | AU30: 37.7 | AV30: =+AT30-AU30 -> -0.6 | AX30: 30.4 | AY30: 31.5 | AZ30: 32.7 | BA30: 33.6 | BB30: 32 | BC30: 33.3 | BD30: 34.3 | BN30: =+LOOKUP(1000,AX30:BM30) -> 34.3 | BQ30: =+BN30-BP30 -> 34.3 | BS30: =+AVERAGE(AX30:BM30) -> 32.542857 | BT30: =+BS30-BP30 -> 32.542857 | BU30: =+MAX(AX30:BM30) -> 34.3 | BV30: 38.4 | BW30: =+BU30-BV30 -> -4.1 | BY30: 39.2 | BZ30: 39.6 | CA30: 39.7 | CB30: 38.7 | CC30: 38 | CD30: 37.9 | CE30: 38.6 | CF30: 39 | CG30: 40.5 | CH30: 40 | CI30: 37.7 | CJ30: 38.4 | CL30: 35.65 | CM30: 36.336667 | CN30: 36.203333 | CO30: 35.713333 | CP30: 35.753333 | CQ30: 35.958621 | CR30: 36.466667 | CS30: 37.41 | CT30: 37.553333 | CU30: 36.8 | CV30: 34.653333 | CW30: 34.536667 | CY30: 32.833333 | CZ30: 33.13 | DA30: 32.573333 | DB30: 32.27 | DC30: 32.503333 | DD30: 33.206897 | DE30: 33.65 | DF30: 34.6 | DG30: 34.653333 | DH30: 32.88 | DI30: 31.49 | DJ30: 31.823333
A31: -77.290861 | B31: 1.3940833 | C31: 1816 | D31: 52045020 | F31: APTO ANTONIO NARIN (Pasto) | G31: NARIÑO | H31: Chachagui | I31: 24 | J31: 22.5 | K31: 22.5 | L31: 23.7 | M31: 21.2 | N31: 22.2 | O31: 23.8 | P31: 24 | Q31: 25.2 | R31: 24.5 | S31: 23.4 | T31: 24 | U31: 21.7 | V31: 21.8 | W31: 21 | X31: 20.2 | Y31: 23.9 | Z31: 23.2 | AA31: 24 | AB31: 19.7 | AC31: 23.4 | AD31: 23.5 | AE31: 22.2 | AF31: 21.8 | AG31: 23.4 | AH31: 25 | AI31: 22.8 | AJ31: 19.4 | AK31: 22.6 | AL31: 22.5 | AN31: =+LOOKUP(1000,I31:AM31) -> 22.5 | AT31: =+MAX(I31:AM31) -> 25.2 | AU31: 29.7 | AV31: =+AT31-AU31 -> -4.5 | AX31: 24.2 | AY31: 22.4 | AZ31: 24 | BA31: 23.6 | BB31: 23.4 | BC31: 24 | BD31: 23.8 | BN31: =+LOOKUP(1000,AX31:BM31) -> 23.8 | BQ31: =+BN31-BP31 -> 23.8 | BS31: =+AVERAGE(AX31:BM31) -> 23.628571 | BT31: =+BS31-BP31 -> 23.628571 | BU31: =+MAX(AX31:BM31) -> 24.2 | BV31: 29.7 | BW31: =+BU31-BV31 -> -5.5 | BY31: 29.8 | BZ31: 31 | CA31: 30.3 | CB31: 30 | CC31: 29 | CD31: 29.4 | CE31: 30.2 | CF31: 31.3 | CG31: 31.2 | CH31: 31.3 | CI31: 29.7 | CJ31: 29.7 | CL31: 26.146429 | CM31: 26.681481 | CN31: 27.110345 | CO31: 26.97037 | CP31: 27.262963 | CQ31: 27.303448 | CR31: 27.617857 | CS31: 28.181481 | CT31: 28.467857 | CU31: 27.393103 | CV31: 25.821429 | CW31: 25.571429 | CY31: 22.886207 | CZ31: 23.277778 | DA31: 23.403448 | DB31: 23.433333 | DC31: 23.674074 | DD31: 24.313793 | DE31: 24.882143 | DF31: 25.622222 | DG31: 25.310714 | DH31: 23.62069 | DI31: 22.542857 | DJ31: 22.4
A32: -77.67775 | B32: 0.85708333 | C32: 2961 | D32: 52055230 | F32: APTO SAN LUIS | G32: NARIÑO | H32: Ipiales (Aldana) | I32: 17.2 | J32: 16.6 | K32: 17 | L32: 17.4 | M32: 14 | N32: 17.2 | O32: 18.4 | P32: 18 | Q32: 15.6 | R32: 16 | S32: 16.2 | T32: 18.4 | U32: 16.2 | V32: 17.4 | W32: 16 | X32: 15.8 | Y32: 17.2 | Z32: 16.6 | AA32: 19 | AB32: 17.4 | AC32: 17.6 | AD32: 17.2 | AE32: 17 | AF32: 14.6 | AG32: 17.2 | AH32: 15.6 | AI32: 17.8 | AJ32: 14.4 | AK32: 18.8 | AL32: 17.8 | AN32: =+LOOKUP(1000,I32:AM32) -> 17.8 | AT32: =+MAX(I32:AM32) -> 19 | AU32: 21.6 | AV32: =+AT32-AU32 -> -2.6 | AX32: 19.4 | AY32: 16.2 | AZ32: 19.2 | BA32: 18.6 | BB32: 19.5 | BC32: 20.8 | BD32: 20.8 | BN32: =+LOOKUP(1000,AX32:BM32) -> 20.8 | BQ32: =+BN32-BP32 -> 20.8 | BS32: =+AVERAGE(AX32:BM32) -> 19.214286 | BT32: =+BS32-BP32 -> 19.214286 | BU32: =+MAX(AX32:BM32) -> 20.8 | BV32: 21.3 | BW32: =+BU32-BV32 -> -0.5 | BY32: 23.4 | BZ32: 22.4 | CA32: 22.4 | CB32: 22.4 | CC32: 21 | CD32: 19.4 | CE32: 20 | CF32: 20.6 | CG32: 20.8 | CH32: 21.4 | CI32: 21.6 | CJ32: 21.3 | CL32: 19.041667 | CM32: 19.268 | CN32: 19.253846 | CO32: 19.065385 | CP32: 18.536 | CQ32: 17.268 | CR32: 17.104 | CS32: 17.924 | CT32: 18.8875 | CU32: 19.588 | CV32: 19.291667 | CW32: 19.292 | CY32: 16.288 | CZ32: 16.352 | DA32: 16.265385 | DB32: 16.396154 | DC32: 16.008 | DD32: 15.124 | DE32: 14.58 | DF32: 14.879167 | DG32: 15.866667 | DH32: 16.78 | DI32: 16.866667 | DJ32: 16.572
A33: -73.3575 | B33: 8.3152778 | C33: 1435 | D33: 16055010 | F33: APTO AGUAS CLARAS | G33: NORTE DE SANTANDER | H33: Ocaña | AU33: 30.5 | BV33: 30 | BY33: 31.2 | BZ33: 31.8 | CA33: 31.5 | CB33: 31 | CC33: 32.5 | CD33: 34 | CE33: 32.2 | CF33: 32 | CG33: 30.6 | CH33: 30 | CI33: 30.5 | CJ33: 30
F34: R E G I O N P A C I F I C A
A35: -76.643861 | B35: 5.6905556 | C35: 53 | D35: 11045010 | F35: APTO EL CARANO | G35: CHOCO | H35: Quibdó | I35: 30.6 | J35: 30.6 | K35: 26 | L35: 30.2 | M35: 29 | N35: 32 | O35: 32.4 | P35: 30.4 | Q35: 30.2 | R35: 26.8 | S35: 31.6 | T35: 31 | U35: 29.6 | V35: 29.4 | W35: 29.2 | X35: 30 | Y35: 31.6 | Z35: 31 | AA35: 31.4 | AB35: 31.2 | AC35: 32 | AD35: 29.8 | AE35: 28.6 | AF35: 29 | AG35: 32 | AH35: 32.8 | AI35: 25.2 | AJ35: 27.8 | AK35: 31.2 | AL35: 29.2 | AN35: =+LOOKUP(1000,I35:AM35) -> 29.2 | AT35: =+MAX(I35:AM35) -> 32.8 | AU35: 34.2 | AV35: =+AT35-AU35 -> -1.4 | AX35: 30.8 | AY35: 30.4 | AZ35: 31.8 | BA35: 29.6 | BB35: 26.6 | BC35: 32.6 | BD35: 30.2 | BN35: =+LOOKUP(1000,AX35:BM35) -> 30.2 | BQ35: =+BN35-BP35 -> 30.2 | BS35: =+AVERAGE(AX35:BM35) -> 30.285714 | BT35: =+BS35-BP35 -> 30.285714 | BU35: =+MAX(AX35:BM35) -> 32.6 | BV35: 34 | BW35: =+BU35-BV35 -> -1.4 | BY35: 33.8 | BZ35: 35.6 | CA35: 35.4 | CB35: 35 | CC35: 35.6 | CD35: 35.4 | CE35: 36.2 | CF35: 35.2 | CG35: 35.2 | CH35: 34.2 | CI35: 34.2 | CJ35: 34 | CL35: 32.538462 | CM35: 33.077778 | CN35: 33.725926 | CO35: 33.888889 | CP35: 33.980769 | CQ35: 33.78 | CR35: 33.824 | CS35: 33.774074 | CT35: 33.496296 | CU35: 33.25 | CV35: 32.828571 | CW35: 32.446429 | CY35: 29.977778 | CZ35: 30.340741 | DA35: 30.559259 | DB35: 30.8 | DC35: 31.059259 | DD35: 30.948 | DE35: 31.053846 | DF35: 31.166667 | DG35: 30.933333 | DH35: 30.542857 | DI35: 30.285714 | DJ35: 29.782143
A36: -76.992333 | B36: 3.8201944 | C36: 14 | D36: 53115010 | F36: APTO BUENAVENTURA | G36: VALLE DEL CAUCA | H36: Buenaventura | CL36: 32.2 | CM36: 32.76 | CN36: 33.218182 | CO36: 33.345455 | CP36: 33.018182 | CQ36: 32.654545 | CR36: 32.254545 | CS36: 32.636364 | CT36: 32.454545 | CU36: 32.24 | CV36: 31.58 | CW36: 31.822222 | CY36: 29.618182 | CZ36: 30.59 | DA36: 30.909091 | DB36: 31.127273 | DC36: 30.863636 | DD36: 30.409091 | DE36: 30.290909 | DF36: 30.39 | DG36: 30.21 | DH36: 29.977778 | DI36: 29.588889 | DJ36: 29.644444
A37: -76.65 | B37: 5.1 | C37: 66 | D37: 54025020 | F37: APTO CONDOTO | G37: CHOCO | H37: Condoto
F38: O R I N O Q U I A Y A M A Z O N I A
A39: -70.738056 | B39: 7.0694444 | C39: 128 | D39: 37055010 | F39: APTO SANTIAGO PEREZ | G39: ARAUCA | H39: Arauca | I39: 33.3 | J39: 32.7 | K39: 32.6 | L39: 33.1 | M39: 32.8 | N39: 33.4 | O39: 33.2 | P39: 33.1 | Q39: 32.3 | R39: 32.3 | S39: 32.4 | T39: 32.4 | U39: 31.8 | V39: 32.9 | W39: 33.1 | X39: 34.1 | Y39: 31.6 | Z39: 32 | AA39: 33.1 | AB39: 29.2 | AC39: 31.6 | AD39: 33.7 | AE39: 32.6 | AF39: 27.8 | AG39: 28.1 | AI39: 32.9 | AJ39: 33 | AK39: 32.6 | AL39: 31.7 | AN39: =+LOOKUP(1000,I39:AM39) -> 31.7 | AT39: =+MAX(I39:AM39) -> 34.1 | AU39: 34.8 | AV39: =+AT39-AU39 -> -0.7 | AX39: 32.4 | AY39: 33.1 | AZ39: 33.7 | BA39: 34.7 | BB39: 32.5 | BC39: 31.8 | BD39: 32.6 | BN39: =+LOOKUP(1000,AX39:BM39) -> 32.6 | BQ39: =+BN39-BP39 -> 32.6 | BS39: =+AVERAGE(AX39:BM39) -> 32.971429 | BT39: =+BS39-BP39 -> 32.971429 | BU39: =+MAX(AX39:BM39) -> 34.7 | BV39: 35.8 | BW39: =+BU39-BV39 -> -1.1 | BY39: 38.6 | BZ39: 39.2 | CA39: 40 | CB39: 38.7 | CC39: 38.4 | CD39: 35.4 | CE39: 38 | CF39: 35 | CG39: 36 | CH39: 35.4 | CI39: 34.8 | CJ39: 35.8 | CL39: 34.804348 | CM39: 36.246154 | CN39: 36.892 | CO39: 36.495833 | CP39: 34.356 | CQ39: 33.092 | CR39: 32.776 | CS39: 33.133333 | CT39: 33.869231 | CU39: 33.7625 | CV39: 33.361538 | CW39: 33.336 | CY39: 33.121739 | CZ39: 34.252 | DA39: 34.6 | DB39: 33.241667 | DC39: 31.224 | DD39: 30.012 | DE39: 29.8875 | DF39: 30.643478 | DG39: 31.472 | DH39: 31.720833 | DI39: 31.512 | DJ39: 31.908333
A40: -67.491222 | B40: 6.1824167 | C40: 50 | D40: 38015030 | F40: APTO GERMAN OLANO | G40: VICHADA | H40: Puerto Carreño | I40: 33.5 | J40: 34 | K40: 34.4 | L40: 35.2 | M40: 34.4 | N40: 33.6 | O40: 32.9 | P40: 35 | Q40: 32.4 | R40: 33.6 | S40: 32.4 | T40: 33.7 | U40: 34.2 | V40: 33.6 | W40: 33.8 | X40: 30.4 | Y40: 31 | Z40: 34.4 | AA40: 34.4 | AB40: 32.6 | AC40: 33.4 | AD40: 34 | AE40: 33 | AF40: 31 | AG40: 30.1 | AH40: 33.2 | AI40: 33.4 | AJ40: 34.4 | AK40: 33.6 | AL40: 33.4 | AN40: =+LOOKUP(1000,I40:AM40) -> 33.4 | AT40: =+MAX(I40:AM40) -> 35.2 | AU40: 38 | AV40: =+AT40-AU40 -> -2.8 | AX40: 33.6 | AY40: 34.2 | AZ40: 33.6 | BA40: 34.4 | BB40: 33.5 | BC40: 32.6 | BD40: 33 | BN40: =+LOOKUP(1000,AX40:BM40) -> 33 | BQ40: =+BN40-BP40 -> 33 | BS40: =+AVERAGE(AX40:BM40) -> 33.557143 | BT40: =+BS40-BP40 -> 33.557143 | BU40: =+MAX(AX40:BM40) -> 34.4 | BV40: 37.3 | BW40: =+BU40-BV40 -> -2.9 | BY40: 39 | BZ40: 40.6 | CA40: 40.5 | CB40: 39.9 | CC40: 38.6 | CD40: 39.6 | CE40: 37.4 | CF40: 36.1 | CG40: 36.4 | CH40: 36.6 | CI40: 38 | CJ40: 37.3 | CL40: 36.585185 | CM40: 37.748148 | CN40: 38.325926 | CO40: 37.885714 | CP40: 35.578571 | CQ40: 34.274074 | CR40: 33.480769 | CS40: 34.323077 | CT40: 35.111111 | CU40: 35.314815 | CV40: 35.307407 | CW40: 35.515385 | CY40: 34.8 | CZ40: 35.733333 | DA40: 36.107407 | DB40: 34.332143 | DC40: 32.214815 | DD40: 30.985185 | DE40: 30.696154 | DF40: 31.369231 | DG40: 32.448148 | DH40: 33.259259 | DI40: 33.477778 | DJ40: 33.846154
A41: -73.6205 | B41: 4.1634444 | C41: 423 | D41: 35035020 | F41: APTO VANGUARDIA (3 Km en linea recta Nor-Oriente de la ciudad) | G41: META | H41: Villavicencio | I41: 32 | J41: 31.8 | K41: 31 | L41: 32.2 | M41: 31.2 | N41: 29.8 | O41: 31.6 | P41: 30.4 | Q41: 29.7 | R41: 30.7 | S41: 30.2 | T41: 30.8 | U41: 30.6 | V41: 30.3 | W41: 30.3 | X41: 27.3 | Y41: 29.5 | Z41: 31.1 | AA41: 32 | AB41: 31.1 | AC41: 30.8 | AD41: 31.4 | AE41: 32.2 | AF41: 30.6 | AG41: 30.2 | AH41: 30.4 | AI41: 31.4 | AJ41: 30.2 | AK41: 31.8 | AL41: 30.3 | AN41: =+LOOKUP(1000,I41:AM41) -> 30.3 | AT41: =+MAX(I41:AM41) -> 32.2 | AU41: 34 | AV41: =+AT41-AU41 -> -1.8 | AX41: 31.8 | AY41: 30.7 | AZ41: 30 | BA41: 30.5 | BB41: 31.5 | BC41: 29.6 | BD41: 31.3 | BN41: =+LOOKUP(1000,AX41:BM41) -> 31.3 | BQ41: =+BN41-BP41 -> 31.3 | BS41: =+AVERAGE(AX41:BM41) -> 30.771429 | BT41: =+BS41-BP41 -> 30.771429 | BU41: =+MAX(AX41:BM41) -> 31.8 | BV41: 35.2 | BW41: =+BU41-BV41 -> -3.4 | BY41: 37.6 | BZ41: 38.2 | CA41: 37.2 | CB41: 35.4 | CC41: 33.6 | CD41: 33.2 | CE41: 33.5 | CF41: 34.4 | CG41: 35 | CH41: 34.4 | CI41: 34 | CJ41: 35.2 | CL41: 33.81 | CM41: 34.643333 | CN41: 34.28 | CO41: 32.98 | CP41: 32.07 | CQ41: 31.283333 | CR41: 31.17 | CS41: 31.95 | CT41: 32.541379 | CU41: 32.45 | CV41: 32.26 | CW41: 32.503333 | CY41: 31.556667 | CZ41: 32.003333 | DA41: 31.406667 | DB41: 30.246667 | DC41: 29.52 | DD41: 28.663333 | DE41: 28.503333 | DF41: 29.439286 | DG41: 30.306897 | DH41: 30.47 | DI41: 30.39 | DJ41: 30.676667
A42: -70.930111 | B42: 4.5539444 | C42: 171 | D42: 34015010 | F42: GAVIOTAS LAS | G42: VICHADA | H42: Cumaribo | I42: 33.6 | J42: 32.8 | K42: 32.6 | L42: 32.6 | M42: 32.4 | N42: 25 | O42: 33.2 | P42: 32.4 | Q42: 32 | R42: 32.8 | S42: 30.4 | T42: 26.2 | U42: 30.6 | V42: 29.4 | W42: 32 | X42: 28.8 | Y42: 30.2 | Z42: 32.6 | AA42: 32.2 | AB42: 30.4 | AC42: 32.2 | AD42: 32.2 | AE42: 32.4 | AF42: 28.6 | AG42: 28.4 | AH42: 32.2 | AI42: 32 | AJ42: 31.8 | AK42: 32.2 | AL42: 33 | AN42: =+LOOKUP(1000,I42:AM42) -> 33 | AT42: =+MAX(I42:AM42) -> 33.6 | AU42: 35 | AV42: =+AT42-AU42 -> -1.4 | AX42: 31.6 | AY42: 31.6 | AZ42: 31.8 | BA42: 31.2 | BB42: 32.4 | BC42: 32 | BD42: 32 | BN42: =+LOOKUP(1000,AX42:BM42) -> 32 | BQ42: =+BN42-BP42 -> 32 | BS42: =+AVERAGE(AX42:BM42) -> 31.8 | BT42: =+BS42-BP42 -> 31.8 | BU42: =+MAX(AX42:BM42) -> 32.4 | BV42: 34.8 | BW42: =+BU42-BV42 -> -2.4 | BY42: 37.5 | BZ42: 37.6 | CA42: 38 | CB42: 37.2 | CC42: 36 | CD42: 38.2 | CE42: 34.2 | CF42: 35 | CG42: 35.6 | CH42: 36 | CI42: 35 | CJ42: 34.8 | CL42: 34.614286 | CM42: 35.75 | CN42: 36.103704 | CO42: 34.737037 | CP42: 33.371429 | CQ42: 32.211538 | CR42: 32.1 | CS42: 32.933333 | CT42: 33.759259 | CU42: 33.717857 | CV42: 33.210714 | CW42: 33.251852 | CY42: 33.046429 | CZ42: 33.817857 | DA42: 33.611111 | DB42: 31.707407 | DC42: 30.407143 | DD42: 29.542308 | DE42: 29.389286 | DF42: 30.303704 | DG42: 31.211111 | DH42: 31.45 | DI42: 31.4 | DJ42: 31.666667
A43: -69.940917 | B43: -4.1938611 | C43: 84 | D43: 48015050 | F43: APTO VASQUEZ COBO | G43: AMAZONAS | H43: Leticia | I43: 30.3 | J43: 32.4 | K43: 27 | L43: 28.2 | M43: 31.2 | N43: 28 | O43: 31.5 | P43: 32.9 | Q43: 33.7 | R43: 30.9 | S43: 31.6 | T43: 31.9 | U43: 33.3 | V43: 29.2 | W43: 28 | X43: 29.3 | Y43: 32.2 | Z43: 33.5 | AA43: 29.3 | AB43: 32.1 | AC43: 31.9 | AD43: 32.5 | AE43: 27 | AF43: 30.3 | AG43: 31.4 | AH43: 31.5 | AI43: 27 | AJ43: 30.5 | AK43: 31.8 | AL43: 31.1 | AN43: =+LOOKUP(1000,I43:AM43) -> 31.1 | AT43: =+MAX(I43:AM43) -> 33.7 | AU43: 37.2 | AV43: =+AT43-AU43 -> -3.5 | AX43: 32.8 | AY43: 26.1 | AZ43: 30.8 | BA43: 31.6 | BB43: 31.4 | BC43: 31.8 | BD43: 30.8 | BN43: =+LOOKUP(1000,AX43:BM43) -> 30.8 | BQ43: =+BN43-BP43 -> 30.8 | BS43: =+AVERAGE(AX43:BM43) -> 30.757143 | BT43: =+BS43-BP43 -> 30.757143 | BU43: =+MAX(AX43:BM43) -> 32.8 | BV43: 35.7 | BW43: =+BU43-BV43 -> -2.9 | BY43: 36.5 | BZ43: 36.4 | CA43: 35.9 | CB43: 36.2 | CC43: 34.9 | CD43: 34.1 | CE43: 35.5 | CF43: 37 | CG43: 38.3 | CH43: 38.5 | CI43: 37.2 | CJ43: 35.7 | CL43: 33.78 | CM43: 34.066667 | CN43: 34.05 | CO43: 33.7 | CP43: 32.846429 | CQ43: 32.317241 | CR43: 32.83 | CS43: 33.986667 | CT43: 34.843333 | CU43: 34.934483 | CV43: 34.453333 | CW43: 33.744828 | CY43: 30.703333 | CZ43: 30.69 | DA43: 30.831034 | DB43: 30.527586 | DC43: 30.078571 | DD43: 29.486207 | DE43: 30.01 | DF43: 31.083333 | DG43: 31.573333 | DH43: 31.644828 | DI43: 31.33 | DJ43: 30.841379
F44: RADIO Y TELEFONO
A45: -75.106667 | B45: 3.9111111 | C45: 316 | D45: 22060100 | F45: PIEDRAS DE COBRE | G45: TOLIMA | H45: SALDA#A
A46: -74.838167 | B46: 4.3878056 | C46: 262 | D46: 21237010 | F46: NARI#O RADIO ALERT | G46: CUNDINAMARCA | H46: NARI#O
A47: -74.726111 | B47: 5.2025 | C47: 245 | D47: 21230090 | F47: ARRANCAPLUMAS | G47: CUNDINAMARCA | H47: GUADUAS
A48: -74.0825 | B48: 6.5338889 | C48: 159 | D48: 23120200 | F48: PTO ARAUJO ALERTAS | G48: SANTANDER | H48: CIMITARRA
A49: -73.935 | B49: 6.7736111 | C49: 95 | D49: 23147020 | F49: PTE FERROCARRIL | G49: SANTANDER | H49: SIMACOTA
A50: -73.276111 | B50: 6.6061111 | C50: 630 | D50: 24040060 | F50: REMOLINO | G50: SANTANDER | H50: CABRERA
A51: -73.419444 | B51: 7.1086111 | C51: 180 | D51: 24060060 | F51: PTE LA PAZ | G51: SANTANDER | H51: BETULIA
A52: -73.800833 | B52: 7.7833333 | C52: 98 | D52: 23180100 | F52: SITIO NUEVO | G52: SANTANDER | H52: PUERTO WILCHES
A53: -74.916667 | B53: 10.233333 | C53: 10 | D53: 29030030 | F53: CALAMAR | G53: BOLIVAR | H53: CALAMAR
A54: -74.05 | B54: 8.95 | C54: 30 | D54: 25051540 | F54: Las Aguadas | G54: BOLIVAR | H54: San Martín de Loba
A55: -74.174361 | B55: 9.0884722 | C55: 24 | D55: 25021380 | F55: SAN ROQUE ALERTAS | G55: MAGDALENA | H55: EL BANCO
A56: -74.490917 | B56: 8.92075 | C56: 20 | D56: 25021280 | F56: COYONGAL ALERTAS | G56: BOLIVAR | H56: MAGANGUE
... A67: -75.61675 | B67: 3.331 | C67: 770 | D67: 22020070 | F67: CONDOR EL | G67: TOLIMA | H67: ATACO
F72: CORPORACION A. DEL QUINDIO (Telefono)
A73: -75.683333 | B73: 4.5333333 | C73: 1483 | D73: 26125120 | F73: ARMENIA | G73: QUINDIO | H73: Armenia
A74: -75.766667 | B74: 4.2166667 | C74: 1524 | D74: 26125110 | F74: PLAYA LA | G74: QUINDIO | H74: Génova
A75: -75.45 | B75: 4.6166667 | C75: 2860 | D75: 26120690 | F75: MONTA#A LA | G75: QUINDIO | H75: Salento
A76: -75.533333 | B76: 4.7166667 | C76: 2250 | D76: 26120460 | F76: SIERRA LA | G76: QUINDIO | H76: Salento
A77: -75.55 | B77: 4.4833333 | C77: 2278 | D77: 26120300 | F77: NAVARCO | G77: QUINDIO | H77: Calarca
A78: -75.716667 | B78: 4.4 | C78: 1212 | D78: 26125260 | F78: CENTRO DE GUADUA | G78: QUINDIO | H78: Córdoba
A79: -75.75 | B79: 4.5666667 | C79: 750 | D79: 26120020 | F79: MONTENEGRO | G79: QUINDIO | H79: Montenegro
A80: -75.783333 | B80: 4.45 | C80: 1200 | D80: 26120340 | F80: TEBAIDA LA | G80: QUINDIO | H80: La Tebaida
A81: -75.533333 | B81: 4.6833333 | C81: 2000 | D81: 26120310 | F81: BREMEN | G81: QUINDIO | H81: Filandia
A82: -75.65 | B82: 4.6333333 | C82: 2680 | D82: 26120330 | F82: PICOTA LA | G82: QUINDIO | H82: Salento
A83: -75.633333 | B83: 4.5 | C83: 2250 | D83: 26120370 | F83: PLANADAS | G83: QUINDIO | H83: Calarca
A84: -75.783333 | B84: 4.3333333 | C84: 1180 | D84: 26120430 | F84: BARRAGAN | G84: QUINDIO | H84: Pijao
... A87: -75.433333 | B87: 4.6166667 | C87: 3190 | D87: 26120710 | F87: ESTRELLA DE AGUA | G87: QUINDIO | H87: Salento
F88: EMPRESAS PUBLICAS DE MEDELLIN (E-Mail)
A89: -75.466667 | B89: 6.65 | C89: 2550 | D89: 27010540 | F89: STA ROSA | G89: ANTIOQUIA | H89: Santa Rosa De Osos
A90: -75.4 | B90: 6.7 | C90: 2630 | D90: 27020290 | F90: MONTANITAS | G90: ANTIOQUIA | H90: Santa Rosa De Osos
A91: -75.35 | B91: 6.65 | C91: 2435 | D91: 27010580 | F91: RIONEGRITO | G91: ANTIOQUIA | H91: Santa Rosa De Osos
A92: -75.266667 | B92: 6.7 | C92: 1780 | D92: 27017130 | F92: PALMICHAL G-8 | G92: ANTIOQUIA | H92: Carolina
A93: -75.233333 | B93: 6.7 | C93: 1800 | D93: 27010600 | F93: GOMEZ PLATA | G93: ANTIOQUIA | H93: Gómez Plata
A94: -75.25 | B94: 6.7833333 | C94: 1800 | D94: 27015180 | F94: TRONERAS | G94: ANTIOQUIA | H94: Carolina
A95: -75.316667 | B95: 6.7833333 | C95: 2015 | D95: 27020140 | F95: MIRAFLORES | G95: ANTIOQUIA | H95: Carolina
A96: -75.316667 | B96: 6.8166667 | C96: 1845 | D96: 27027030 | F96: INDIA LA TC-4 | G96: ANTIOQUIA | H96: Angostura
A97: -75.3 | B97: 6.9166667 | C97: 1800 | D97: 27020380 | F97: TENCHE BOCATOMA | G97: ANTIOQUIA | H97: Carolina
A98: -75.666667 | B98: 6.6 | C98: 2520 | D98: 27010740 | F98: BELMIRA | G98: ANTIOQUIA | H98: Belmira
A99: -75.55 | B99: 6.4833333 | C99: 2340 | D99: 27017670 | F99: YE LA RG 10 | G99: ANTIOQUIA | H99: San Pedro De Los Milagros
A100: -75.483333 | B100: 6.5666667 | C100: 2285 | D100: 27010750 | F100: ENTRERRIOS | G100: ANTIOQUIA | H100: Entrerrios
... A113: -75.133333 | B113: 6.8 | C113: 960 | D113: 27015140 | F113: MANGO EL | G113: ANTIOQUIA | H113: Amalfi
A114: -74.55 | B114: 6.2166667 | D114: 23095020 | F114: Sierra | G114: ANTIOQUIA | H114: Pto. Nare
A115: -75.116667 | B115: 6.2666667 | C115: 1350 | D115: 23080860 | F115: SAMARIA | G115: ANTIOQUIA | H115: San RafAFl
A116: -75.116667 | B116: 6.35 | C116: 1570 | D116: 23080840 | F116: TOCAIMA | G116: ANTIOQUIA | H116: Alejandría
A117: -75.05 | B117: 6.2333333 | C117: 1380 | D117: 23080830 | F117: RAPIDA LA | G117: ANTIOQUIA | H117: San RafAFl
A118: -75.033333 | B118: 6.3 | C118: 1051 | D118: 23080320 | F118: SAN RAFAFL | G118: ANTIOQUIA | H118: San RafAFl
A119: -74.966667 | B119: 6.3333333 | C119: 1210 | D119: 23085230 | F119: PLAYAS | G119: ANTIOQUIA | H119: San RafAFl
A120: -74.983333 | B120: 6.35 | C120: 975 | D120: 23089510 | F120: Jaguas | G120: ANTIOQUIA | H120: San RafAFl
F121: C.V.C DE CALI (Telefono)
A122: -76.7 | B122: 2.95 | C122: 1130 | D122: 26035040 | F122: SALVAJINA LA | G122: CAUCA | H122: Suarez
A123: -76.2 | B123: 3.55 | C123: 1272 | D123: 26095180 | F123: SAN EMIGDIO | G123: VALLE DEL CAUCA | H123: Palmira | CL123: 26.214286 | CM123: 25.810345 | CN123: 25.551724 | CO123: 25.344828 | CP123: 26.344828 | CQ123: 25.034483 | CR123: 25.385714 | CS123: 25.714286 | CT123: 25.857143 | CU123: 25.310345 | CV123: 25.103448 | CW123: 25.241379 | CY123: 24.117857 | CZ123: 23.417241 | DA123: 23.4 | DB123: 23.096552 | DC123: 23.827586 | DD123: 22.82069 | DE123: 23.167857 | DF123: 23.564286 | DG123: 23.246429 | DH123: 22.903448 | DI123: 22.634483 | DJ123: 22.92069
A124: -76.266667 | B124: 3.8833333 | C124: 960 | D124: 26090790 | F124: ACDTO BUGA | G124: VALLE DEL CAUCA | H124: Guadalajara De Buga
A125: -76.542639 | B125: 2.6424444 | C125: 1800 | D125: 26020030 | F125: PIENDAMO | G125: CAUCA | H125: Piendamo
A126: -74.233333 | B126: 3.3333333 | C126: 1000 | D126: 26070680 | F126: FLORIDA | G126: VALLE DEL CAUCA | H126: Florida
A127: -76.55 | B127: 3.4 | C127: 985 | D127: 26080300 | F127: EDIFICIO CVC | G127: VALLE DEL CAUCA | H127: Cali
A128: -76.866667 | B128: 3.5333333 | C128: 630 | D128: 53100050 | F128: ALTO ANCHICAYA | G128: VALLE DEL CAUCA | H128: Buenaventura
...

Sheet Bogotá
A1: TEMPERATURA MAXIMA
A2: =+max!F2 -> NOVIEMBRE DE 2025 | AH2: =+max!F2 -> NOVIEMBRE DE 2025 | AX2: MAXIMAS ABSOLUTAS HISTORICAS
A3: ESTACION | B3: MUNICIPIO | C3: 1 | D3: 2 | E3: 3 | F3: 4 | G3: 5 | H3: 6 | I3: 7 | J3: 8 | K3: 9 | L3: 10 | M3: 11 | N3: 12 | O3: 13 | P3: 14 | Q3: 15 | R3: 16 | S3: 17 | T3: 18 | U3: 19 | V3: 20 | W3: 21 | X3: 22 | Y3: 23 | Z3: 24 | AA3: 25 | AB3: 26 | AC3: 27 | AD3: 28 | AE3: 29 | AF3: 30 | AG3: 31 | AH3: Maxima | AJ3: 1 | AK3: 2 | AL3: 3 | AM3: 4 | AN3: 5 | AO3: 6 | AP3: 7 | AQ3: 8 | AR3: 9 | AS3: 10 | AV3: ENE | AW3: FEB | AX3: MAR | AY3: ABR | AZ3: MAY | BA3: JUN | BB3: JUL | BC3: AGO | BD3: SEP | BE3: OCT | BF3: NOV | BG3: DIC
A4: APTO EL DORADO | B4: Bogotá DC | C4: =+IF(ISBLANK(max!I$25)=FALSE,max!I$25,"") -> 21.1 | D4: =+IF(ISBLANK(max!J$25)=FALSE,max!J$25,"") -> 21.4 | E4: =+IF(ISBLANK(max!K$25)=FALSE,max!K$25,"") -> 21.4 | F4: =+IF(ISBLANK(max!L$25)=FALSE,max!L$25,"") -> 21 | G4: =+IF(ISBLANK(max!M$25)=FALSE,max!M$25,"") -> 20 | H4: =+IF(ISBLANK(max!N$25)=FALSE,max!N$25,"") -> 19.6 | I4: =+IF(ISBLANK(max!O$25)=FALSE,max!O$25,"") -> 22.1 | J4: =+IF(ISBLANK(max!P$25)=FALSE,max!P$25,"") -> 21.6 | ... AG4: =+IF(ISBLANK(max!AM$25)=FALSE,max!AM$25,"") | AH4: =+max!AT25 -> 22.1 | AJ4: =+IF(ISBLANK(max!AX$25)=FALSE,max!AX$25,"") -> 20.3 | AK4: =+IF(ISBLANK(max!AY$25)=FALSE,max!AY$25,"") -> 19.7 | AL4: =+IF(ISBLANK(max!AZ$25)=FALSE,max!AZ$25,"") -> 19.8 | AM4: =+IF(ISBLANK(max!BA$867)=FALSE,max!BA$25,"") -> 20.5 | AN4: =+IF(ISBLANK(max!BB$25)=FALSE,max!BB$25,"") -> 19.3 | AO4: =+IF(ISBLANK(max!BC$25)=FALSE,max!BC$25,"") -> 20 | AP4: =+IF(ISBLANK(max!BD$25)=FALSE,max!BD$25,"") -> 19.9 | AQ4: =+IF(ISBLANK(max!BE$25)=FALSE,max!BE$25,"") | AR4: =+IF(ISBLANK(max!#REF!)=FALSE,max!#REF!,"") -> #REF! | AV4: 25.2 | AW4: 25.1 | AX4: 24.9 | AY4: 24.7 | AZ4: 23.5 | BA4: 23.1 | BB4: 22.4 | BC4: 23.6 | BD4: 23.3 | BE4: 23.6 | BF4: 24 | BG4: 23.8
A5: PROVIDENCIA GJA | B5: Bogotá DC (Via Siberia) | C5: =+IF(ISBLANK(max!I$867)=FALSE,max!I$867,"") -> 21 | D5: =+IF(ISBLANK(max!J$867)=FALSE,max!J$867,"") -> 22 | E5: =+IF(ISBLANK(max!K$867)=FALSE,max!K$867,"") -> 23 | F5: =+IF(ISBLANK(max!L$867)=FALSE,max!L$867,"") -> 20.8 | G5: =+IF(ISBLANK(max!M$867)=FALSE,max!M$867,"") -> 21.2 | H5: =+IF(ISBLANK(max!N$867)=FALSE,max!N$867,"") -> 19.8 | I5: =+IF(ISBLANK(max!O$867)=FALSE,max!O$867,"") -> 23 | J5: =+IF(ISBLANK(max!P$867)=FALSE,max!P$867,"") -> 22.6 | ... AG5: =+IF(ISBLANK(max!AM$867)=FALSE,max!AM$867,"") | AH5: =+max!AT867 -> 23 | AJ5: =+IF(ISBLANK(max!AX$867)=FALSE,max!AX$867,"") -> 19.4 | AK5: =+IF(ISBLANK(max!AY$867)=FALSE,max!AY$867,"") -> 19 | AL5: =+IF(ISBLANK(max!AZ$867)=FALSE,max!AZ$867,"") -> 19.6 | AM5: =+IF(ISBLANK(max!BA$867)=FALSE,max!BA$867,"") -> 20.6 | AN5: =+IF(ISBLANK(max!BB$867)=FALSE,max!BB$867,"") -> 19.6 | AO5: =+IF(ISBLANK(max!BC$867)=FALSE,max!BC$867,"") -> 20.2 | AP5: =+IF(ISBLANK(max!BD$867)=FALSE,max!BD$867,"") -> 20 | AQ5: =+IF(ISBLANK(max!BE$867)=FALSE,max!BE$867,"") | AR5: =+IF(ISBLANK(max!#REF!)=FALSE,max!#REF!,"") -> #REF! | AV5: 25.4 | AW5: 25.5 | AX5: 25.5 | AY5: 24 | AZ5: 23.2 | BA5: 23 | BB5: 23.4 | BC5: 23.3 | BD5: 24.6 | BE5: 23.6 | BF5: 24.2 | BG5: 23.4
A6: COL SAN CAYETANO | B6: Bogotá DC | C6: =+IF(ISBLANK(max!I$931)=FALSE,max!I$931,"") -> 15.2 | D6: =+IF(ISBLANK(max!J$931)=FALSE,max!J$931,"") -> 15.6 | E6: =+IF(ISBLANK(max!K$931)=FALSE,max!K$931,"") -> 15.2 | F6: =+IF(ISBLANK(max!L$931)=FALSE,max!L$931,"") -> 14.8 | G6: =+IF(ISBLANK(max!M$931)=FALSE,max!M$931,"") -> 14.6 | H6: =+IF(ISBLANK(max!N$931)=FALSE,max!N$931,"") | I6: =+IF(ISBLANK(max!O$931)=FALSE,max!O$931,"") -> 16 | J6: =+IF(ISBLANK(max!P$931)=FALSE,max!P$931,"") -> 16.2 | ... AG6: =+IF(ISBLANK(max!AM$931)=FALSE,max!AM$931,"") | AH6: =+max!AT931 -> 16.4 | AJ6: =+IF(ISBLANK(max!AX$931)=FALSE,max!AX$931,"") -> 16.4 | AK6: =+IF(ISBLANK(max!AY$931)=FALSE,max!AY$931,"") -> 16 | AL6: =+IF(ISBLANK(max!AZ$931)=FALSE,max!AZ$931,"") -> 16.4 | AM6: =+IF(ISBLANK(max!BA$931)=FALSE,max!BA$931,"") -> 16.8 | AN6: =+IF(ISBLANK(max!BB$931)=FALSE,max!BB$931,"") -> 16.2 | AO6: =+IF(ISBLANK(max!BC$931)=FALSE,max!BC$931,"") -> 15.8 | AP6: =+IF(ISBLANK(max!BD$931)=FALSE,max!BD$931,"") -> 16.2 | AQ6: =+IF(ISBLANK(max!BE$931)=FALSE,max!BE$931,"") | AR6: =+IF(ISBLANK(max!#REF!)=FALSE,max!#REF!,"") -> #REF!
A7: NVA GENERACION AUT | B7: Suba-Cota | C7: =+IF(ISBLANK(max!I$942)=FALSE,max!I$942,"") -> 22.2 | D7: =+IF(ISBLANK(max!J$942)=FALSE,max!J$942,"") -> 22.4 | E7: =+IF(ISBLANK(max!K$942)=FALSE,max!K$942,"") -> 23 | F7: =+IF(ISBLANK(max!L$942)=FALSE,max!L$942,"") -> 22.6 | G7: =+IF(ISBLANK(max!M$942)=FALSE,max!M$942,"") -> 21.2 | H7: =+IF(ISBLANK(max!N$942)=FALSE,max!N$942,"") -> 20.4 | I7: =+IF(ISBLANK(max!O$942)=FALSE,max!O$942,"") -> 23.2 | J7: =+IF(ISBLANK(max!P$942)=FALSE,max!P$942,"") -> 23 | ... AG7: =+IF(ISBLANK(max!AM$942)=FALSE,max!AM$942,"") | AH7: =+max!AN942 -> 22 | AJ7: =+IF(ISBLANK(max!AX$866)=FALSE,max!AX$866,"") | AK7: =+IF(ISBLANK(max!AY$866)=FALSE,max!AY$866,"") | AL7: =+IF(ISBLANK(max!AZ$866)=FALSE,max!AZ$866,"") | AM7: =+IF(ISBLANK(max!BA$866)=FALSE,max!BA$866,"") | AN7: =+IF(ISBLANK(max!BB$866)=FALSE,max!BB$866,"") | AO7: =+IF(ISBLANK(max!BC$866)=FALSE,max!BC$866,"") | AP7: =+IF(ISBLANK(max!BD$866)=FALSE,max!BD$866,"") | AQ7: =+IF(ISBLANK(max!BE$866)=FALSE,max!BE$866,"") | AR7: =+IF(ISBLANK(max!#REF!)=FALSE,max!#REF!,"") -> #REF!
A8: UNIV: NACIONAL | B8: Bogotá DC | C8: =+IF(ISBLANK(max!I$866)=FALSE,max!I$866,"") | D8: =+IF(ISBLANK(max!J$866)=FALSE,max!J$866,"") | E8: =+IF(ISBLANK(max!K$866)=FALSE,max!K$866,"") | F8: =+IF(ISBLANK(max!L$866)=FALSE,max!L$866,"") | G8: =+IF(ISBLANK(max!M$866)=FALSE,max!M$866,"") | H8: =+IF(ISBLANK(max!N$866)=FALSE,max!N$866,"") | I8: =+IF(ISBLANK(max!O$866)=FALSE,max!O$866,"") | J8: =+IF(ISBLANK(max!P$866)=FALSE,max!P$866,"") | ... AG8: =+IF(ISBLANK(max!AM$866)=FALSE,max!AM$866,"") | AH8: =+max!AN866 -> 0 | AJ8: =+IF(ISBLANK(max!AX$948)=FALSE,max!AX$948,"") | AK8: =+IF(ISBLANK(max!AY$948)=FALSE,max!AY$948,"") | AL8: =+IF(ISBLANK(max!AZ$948)=FALSE,max!AZ$948,"") | AM8: =+IF(ISBLANK(max!BA$948)=FALSE,max!BA$948,"") | AN8: =+IF(ISBLANK(max!BB$948)=FALSE,max!BB$948,"") | AO8: =+IF(ISBLANK(max!BC$948)=FALSE,max!BC$948,"") | AP8: =+IF(ISBLANK(max!BD$948)=FALSE,max!BD$948,"") | AQ8: =+IF(ISBLANK(max!BE$948)=FALSE,max!BE$948,"") | AR8: =+IF(ISBLANK(max!#REF!)=FALSE,max!#REF!,"") -> #REF!
