0.1000000000
0.0000000000
0.0000000000
-0.1000000000
-79.0500000000
12.3500000000
