0.0100000000
0.0000000000
0.0000000000
-0.0100000000
-81.7306205400
13.3916323500
