0.0100000000
0.0000000000
0.0000000000
-0.0100000000
-81.7490617618
13.4049123526
