0.0099958089
0.0000000000
0.0000000000
-0.0099958089
-81.7390638574
13.3975213571
