0.0100000000
0.0000000000
0.0000000000
-0.0100000000
-89.2590617618
13.7849123526
