0.0010000000
0.0000000000
0.0000000000
-0.0010000000
-81.7532609469
13.4115302634
