0.0100000000
0.0000000000
0.0000000000
-0.0100000000
-81.7306205560
13.3855935340
