0.0100000000
0.0000000000
0.0000000000
-0.0100000000
-81.7350000000
13.3950000000
