0.0100000000
0.0000000000
0.0000000000
-0.0100000000
-80.7790617618
12.8449123526
