0.0100000000
0.0000000000
0.0000000000
-0.0100000000
-81.7487609469
13.4090302634
