0.0100000000
0.0000000000
0.0000000000
-0.0100000000
-79.0234795748
12.4641303610
